BEGIN:VCALENDAR
VERSION:2.0
PRODID:-//Centro de Eventos do Ceará - ECPv6.13.0//NONSGML v1.0//EN
CALSCALE:GREGORIAN
METHOD:PUBLISH
X-WR-CALNAME:Centro de Eventos do Ceará
X-ORIGINAL-URL:https://centrodeeventos.ce.gov.br
X-WR-CALDESC:Eventos para Centro de Eventos do Ceará
REFRESH-INTERVAL;VALUE=DURATION:PT1H
X-Robots-Tag:noindex
X-PUBLISHED-TTL:PT1H
BEGIN:VTIMEZONE
TZID:America/Sao_Paulo
BEGIN:STANDARD
TZOFFSETFROM:-0300
TZOFFSETTO:-0300
TZNAME:-03
DTSTART:20250101T000000
END:STANDARD
END:VTIMEZONE
BEGIN:VEVENT
DTSTART;TZID=America/Sao_Paulo:20250506T080000
DTEND;TZID=America/Sao_Paulo:20250506T200000
DTSTAMP:20260421T221623
CREATED:20250429T204119Z
LAST-MODIFIED:20250429T204130Z
UID:691-1746518400-1746561600@centrodeeventos.ce.gov.br
SUMMARY:MB Summit Fortaleza 2025
DESCRIPTION:O MB Summit Brazil é um congresso imobiliário que percorrerá mensalmente vários estados do Brasil. As palestras abordarão temas inovadores e tecnológicos voltados para o aperfeiçoamento do corretor de imóveis. A nossa edição em Fortaleza acontecerá no dia 06 de maio de 2025.
URL:https://centrodeeventos.ce.gov.br/evento/mb-summit-fortaleza-2025/
LOCATION:Pavilhão Oeste
CATEGORIES:Congresso
ATTACH;FMTTYPE=image/jpeg:https://centrodeeventos.ce.gov.br/wp-content/uploads/2025/04/Snapinsta.app_465746671_18468771547056804_2994620977613709302_n_1080.jpg
END:VEVENT
END:VCALENDAR