BEGIN:VCALENDAR
VERSION:2.0
PRODID:-//Centro de Eventos do Ceará - ECPv6.13.0//NONSGML v1.0//EN
CALSCALE:GREGORIAN
METHOD:PUBLISH
X-WR-CALNAME:Centro de Eventos do Ceará
X-ORIGINAL-URL:https://centrodeeventos.ce.gov.br
X-WR-CALDESC:Eventos para Centro de Eventos do Ceará
REFRESH-INTERVAL;VALUE=DURATION:PT1H
X-Robots-Tag:noindex
X-PUBLISHED-TTL:PT1H
BEGIN:VTIMEZONE
TZID:America/Sao_Paulo
BEGIN:STANDARD
TZOFFSETFROM:-0300
TZOFFSETTO:-0300
TZNAME:-03
DTSTART:20250101T000000
END:STANDARD
END:VTIMEZONE
BEGIN:VEVENT
DTSTART;VALUE=DATE:20250507
DTEND;VALUE=DATE:20250510
DTSTAMP:20260421T221622
CREATED:20250430T131710Z
LAST-MODIFIED:20250430T153751Z
UID:712-1746576000-1746835199@centrodeeventos.ce.gov.br
SUMMARY:Reunião AGU
DESCRIPTION:
URL:https://centrodeeventos.ce.gov.br/evento/reuniao-agu/
LOCATION:Pavilhão Leste
CATEGORIES:Congresso
ATTACH;FMTTYPE=image/png:https://centrodeeventos.ce.gov.br/wp-content/uploads/2025/04/CEC-PADRAO.png
END:VEVENT
END:VCALENDAR