BEGIN:VCALENDAR
VERSION:2.0
PRODID:-//Centro de Eventos do Ceará - ECPv6.13.0//NONSGML v1.0//EN
CALSCALE:GREGORIAN
METHOD:PUBLISH
X-ORIGINAL-URL:https://centrodeeventos.ce.gov.br
X-WR-CALDESC:Eventos para Centro de Eventos do Ceará
REFRESH-INTERVAL;VALUE=DURATION:PT1H
X-Robots-Tag:noindex
X-PUBLISHED-TTL:PT1H
BEGIN:VTIMEZONE
TZID:America/Sao_Paulo
BEGIN:STANDARD
TZOFFSETFROM:-0300
TZOFFSETTO:-0300
TZNAME:-03
DTSTART:20250101T000000
END:STANDARD
END:VTIMEZONE
BEGIN:VEVENT
DTSTART;VALUE=DATE:20250517
DTEND;VALUE=DATE:20250521
DTSTAMP:20260421T221909
CREATED:20250430T151220Z
LAST-MODIFIED:20250430T151220Z
UID:718-1747440000-1747785599@centrodeeventos.ce.gov.br
SUMMARY:CIOCE - Congresso Internacional De Odontologia
DESCRIPTION:O Congresso Internacional de Odontologia do Ceará (CIOCE) é o maior evento internacional de odontologia do Norte e Nordeste\, realizado pela ABO-CE. É reconhecido por reunir profissionais de destaque e promover a troca de conhecimentos essenciais para a evolução do setor. \nEm 2023\, o evento contou com mais de 7.000 inscritos\, sendo 4.862 cirurgiões-dentistas\, e atingiu 86% em negócios gerados. Reuniu mais de 70 expositores de alcance mundial\, além de uma seleção criteriosa de palestrantes e temas de relevância nacional e internacional. \nNo CIOCE\, os participantes têm acesso a soluções inovadoras\, descobrem oportunidades valiosas\, criam conexões com outros profissionais e firmam negócios que impulsionam melhores resultados.
URL:https://centrodeeventos.ce.gov.br/evento/cioce-congresso-internacional-de-odontologia/
LOCATION:Pavilhão Oeste
CATEGORIES:Congresso
ATTACH;FMTTYPE=image/png:https://centrodeeventos.ce.gov.br/wp-content/uploads/2025/04/IMG_6083.png
END:VEVENT
BEGIN:VEVENT
DTSTART;TZID=America/Sao_Paulo:20250518T130000
DTEND;TZID=America/Sao_Paulo:20250520T210000
DTSTAMP:20260421T221909
CREATED:20250430T152314Z
LAST-MODIFIED:20250430T152314Z
UID:721-1747573200-1747774800@centrodeeventos.ce.gov.br
SUMMARY:Outlet - Feira Regional da Beleza
DESCRIPTION:Se você é profissional da beleza ou consumidor\, não perca o evento que reúne preços imbatíveis e oportunidades exclusivas para renovar seu estoque\, descobrir tendências e inovações das principais marcas do setor. Aproveite para adquirir produtos no primeiro semestre a preço de fábrica.\nGaranta já sua vaga!
URL:https://centrodeeventos.ce.gov.br/evento/outlet-feira-regional-da-beleza/
LOCATION:Pavilhão Oeste
CATEGORIES:Eventos corporativos
ATTACH;FMTTYPE=image/jpeg:https://centrodeeventos.ce.gov.br/wp-content/uploads/2025/04/base-site-misael-1_page-0001-scaled-2-800x484-1.jpg
END:VEVENT
END:VCALENDAR