BEGIN:VCALENDAR
VERSION:2.0
PRODID:-//Centro de Eventos do Ceará - ECPv6.13.0//NONSGML v1.0//EN
CALSCALE:GREGORIAN
METHOD:PUBLISH
X-ORIGINAL-URL:https://centrodeeventos.ce.gov.br
X-WR-CALDESC:Eventos para Centro de Eventos do Ceará
REFRESH-INTERVAL;VALUE=DURATION:PT1H
X-Robots-Tag:noindex
X-PUBLISHED-TTL:PT1H
BEGIN:VTIMEZONE
TZID:America/Sao_Paulo
BEGIN:STANDARD
TZOFFSETFROM:-0300
TZOFFSETTO:-0300
TZNAME:-03
DTSTART:20250101T000000
END:STANDARD
END:VTIMEZONE
BEGIN:VEVENT
DTSTART;VALUE=DATE:20250527
DTEND;VALUE=DATE:20250530
DTSTAMP:20260421T203246
CREATED:20250430T155421Z
LAST-MODIFIED:20250527T125226Z
UID:739-1748304000-1748563199@centrodeeventos.ce.gov.br
SUMMARY:EXPOMÓVEL CEARÁ 2025
DESCRIPTION:Criamos eventos que geram oportunidades de negócios. Nosso formato de feiras é totalmente voltado para otimizar a realização de negócios\, unindo em um só lugar as melhores marcas do setor moveleiro\, ampliando parcerias e gerando oportunidades de atualização e network. \nA Expomóvel se transformou\, ao longo dos anos\, em uma eficiente forma de apresentação de produtos e empresas para o mercado moveleiro. Sempre inovando na criação de novas oportunidades com a participação de indústrias\, lojistas\, atacadistas\, clientes e representantes\, os eventos foram crescendo em público\, estrutura\, abrangência pelo Brasil e impacto no desenvolvimento regional.
URL:https://centrodeeventos.ce.gov.br/evento/expomovel-ceara-2025/
LOCATION:Pavilhão Leste
CATEGORIES:Congresso
ATTACH;FMTTYPE=image/png:https://centrodeeventos.ce.gov.br/wp-content/uploads/2025/04/expomovel.png
END:VEVENT
BEGIN:VEVENT
DTSTART;VALUE=DATE:20250528
DTEND;VALUE=DATE:20250531
DTSTAMP:20260421T203246
CREATED:20250430T193416Z
LAST-MODIFIED:20250527T130015Z
UID:785-1748390400-1748649599@centrodeeventos.ce.gov.br
SUMMARY:TECNOALIMENTOS 2025
DESCRIPTION:Tecnoalimentos 2025 levará aos expositores soluções\, tecnologias e boas oportunidades de negócios aos visitantes como novidades e tendências do setor de alimentos. A feira foi pensada para promover uma experiência inovadora entre expositores e visitantes e preparada para geração de negócios aproximando os mercados produtores e consumidores\, a fim de viabilizar a realização de grandes negócios reforçando a recuperação e crescimento dos empreendimentos. \nAs Feiras de Negócios são excelentes ferramentas de marketing para empresas expositoras\, pois abre possibilidades para divulgar produtos e serviços\, prospectar novos clientes\, além de reforçar o nome da empresa junto ao público. O seu objetivo é a geração de negócios e a construção de relacionamentos que potencializem a capacidade de reação das empresas.
URL:https://centrodeeventos.ce.gov.br/evento/tecnoalimentos-2025/
LOCATION:Pavilhão Oeste
CATEGORIES:Feiras e Exposições
ATTACH;FMTTYPE=image/png:https://centrodeeventos.ce.gov.br/wp-content/uploads/2025/04/tecnoalimentos.png
END:VEVENT
END:VCALENDAR