BEGIN:VCALENDAR
VERSION:2.0
PRODID:-//Centro de Eventos do Ceará - ECPv6.13.0//NONSGML v1.0//EN
CALSCALE:GREGORIAN
METHOD:PUBLISH
X-ORIGINAL-URL:https://centrodeeventos.ce.gov.br
X-WR-CALDESC:Eventos para Centro de Eventos do Ceará
REFRESH-INTERVAL;VALUE=DURATION:PT1H
X-Robots-Tag:noindex
X-PUBLISHED-TTL:PT1H
BEGIN:VTIMEZONE
TZID:America/Sao_Paulo
BEGIN:STANDARD
TZOFFSETFROM:-0300
TZOFFSETTO:-0300
TZNAME:-03
DTSTART:20250101T000000
END:STANDARD
END:VTIMEZONE
BEGIN:VEVENT
DTSTART;VALUE=DATE:20250706
DTEND;VALUE=DATE:20250709
DTSTAMP:20260421T185210
CREATED:20250527T135449Z
LAST-MODIFIED:20250527T135449Z
UID:1157-1751760000-1752019199@centrodeeventos.ce.gov.br
SUMMARY:Ceará Beauty & Hair
DESCRIPTION:
URL:https://centrodeeventos.ce.gov.br/evento/ceara-beauty-hair/
LOCATION:Pavilhão Leste
CATEGORIES:Feiras e Exposições
ATTACH;FMTTYPE=image/png:https://centrodeeventos.ce.gov.br/wp-content/uploads/2025/05/CEARA-BEAUTY-HAIR.png
END:VEVENT
END:VCALENDAR