BEGIN:VCALENDAR
VERSION:2.0
PRODID:-//Centro de Eventos do Ceará - ECPv6.13.0//NONSGML v1.0//EN
CALSCALE:GREGORIAN
METHOD:PUBLISH
X-ORIGINAL-URL:https://centrodeeventos.ce.gov.br
X-WR-CALDESC:Eventos para Centro de Eventos do Ceará
REFRESH-INTERVAL;VALUE=DURATION:PT1H
X-Robots-Tag:noindex
X-PUBLISHED-TTL:PT1H
BEGIN:VTIMEZONE
TZID:America/Sao_Paulo
BEGIN:STANDARD
TZOFFSETFROM:-0300
TZOFFSETTO:-0300
TZNAME:-03
DTSTART:20250101T000000
END:STANDARD
END:VTIMEZONE
BEGIN:VEVENT
DTSTART;VALUE=DATE:20250709
DTEND;VALUE=DATE:20250712
DTSTAMP:20260421T185219
CREATED:20250527T140114Z
LAST-MODIFIED:20250627T150115Z
UID:1160-1752019200-1752278399@centrodeeventos.ce.gov.br
SUMMARY:Showbrinq
DESCRIPTION:O evento se destina a exposição de brinquedos e puericultura por parte dos fabricantes para os lojistas varejo e atacado da área\, com o intuito de abastecimento para o dia das crianças. É um evento exclusivo para CNPJ/Lojista.
URL:https://centrodeeventos.ce.gov.br/evento/showbrinq/
LOCATION:Pavilhão Oeste
CATEGORIES:Feiras e Exposições
ATTACH;FMTTYPE=image/jpeg:https://centrodeeventos.ce.gov.br/wp-content/uploads/2025/05/Ceara-Feed.jpg
END:VEVENT
END:VCALENDAR