BEGIN:VCALENDAR
VERSION:2.0
PRODID:-//Centro de Eventos do Ceará - ECPv6.13.0//NONSGML v1.0//EN
CALSCALE:GREGORIAN
METHOD:PUBLISH
X-ORIGINAL-URL:https://centrodeeventos.ce.gov.br
X-WR-CALDESC:Eventos para Centro de Eventos do Ceará
REFRESH-INTERVAL;VALUE=DURATION:PT1H
X-Robots-Tag:noindex
X-PUBLISHED-TTL:PT1H
BEGIN:VTIMEZONE
TZID:America/Sao_Paulo
BEGIN:STANDARD
TZOFFSETFROM:-0300
TZOFFSETTO:-0300
TZNAME:-03
DTSTART:20250101T000000
END:STANDARD
END:VTIMEZONE
BEGIN:VEVENT
DTSTART;VALUE=DATE:20250718
DTEND;VALUE=DATE:20250721
DTSTAMP:20260421T185209
CREATED:20250527T142709Z
LAST-MODIFIED:20250627T145951Z
UID:1171-1752796800-1753055999@centrodeeventos.ce.gov.br
SUMMARY:SANA 2025 - PARTE 2
DESCRIPTION:O Sana 2025 Parte 2 acontece nos dias 18\, 19 e 20 de julho\, no Centro de Eventos do Ceará\, e é o maior evento geek do Norte e Nordeste. A programação conta com salas temáticas\, concursos de cosplay e K-pop\, vila dos artistas\, esculturas geek assinadas por Walterlan Veríssimo e um estande exclusivo da Riot Games com ativações de League of Legends. \nEntre os destaques\, estão os dubladores de Demon Slayer\, os influenciadores TET e Muca Muriçoca\, além dos shows de Diogo Defante e Lucas Inutilismo. No domingo (20/07)\, o evento recebe os convidados internacionais Tom Welling e Erica Durance (Smallville) e Ayumi Miyazaki (Digimon). \nImperdível para os fãs da cultura pop e geek
URL:https://centrodeeventos.ce.gov.br/evento/sana-2025-parte-2/
LOCATION:Pavilhão Oeste
CATEGORIES:Feiras e Exposições
ATTACH;FMTTYPE=image/jpeg:https://centrodeeventos.ce.gov.br/wp-content/uploads/2025/05/Ticket-360-1200x628-px.jpg
END:VEVENT
END:VCALENDAR