BEGIN:VCALENDAR
VERSION:2.0
PRODID:-//Centro de Eventos do Ceará - ECPv6.13.0//NONSGML v1.0//EN
CALSCALE:GREGORIAN
METHOD:PUBLISH
X-ORIGINAL-URL:https://centrodeeventos.ce.gov.br
X-WR-CALDESC:Eventos para Centro de Eventos do Ceará
REFRESH-INTERVAL;VALUE=DURATION:PT1H
X-Robots-Tag:noindex
X-PUBLISHED-TTL:PT1H
BEGIN:VTIMEZONE
TZID:America/Sao_Paulo
BEGIN:STANDARD
TZOFFSETFROM:-0300
TZOFFSETTO:-0300
TZNAME:-03
DTSTART:20250101T000000
END:STANDARD
END:VTIMEZONE
BEGIN:VEVENT
DTSTART;VALUE=DATE:20251106
DTEND;VALUE=DATE:20251109
DTSTAMP:20260421T122619
CREATED:20250529T144907Z
LAST-MODIFIED:20251029T124036Z
UID:1440-1762387200-1762646399@centrodeeventos.ce.gov.br
SUMMARY:FEIRA DO CONHECIMENTO
DESCRIPTION:A Feira do Conhecimento 2025 será realizada entre os dias 6 e 8 de novembro\, no Centro de Eventos do Ceará\, em Fortaleza. O evento\, realizado pelo Governo do Estado do Ceará\, por meio da Secretaria da Ciência\, Tecnologia e Educação Superior do Ceará (Secitece) visa reunir ciência\, tecnologia\, inovação e empreendedorismo com acesso gratuito ao público. O Instituto Centro de Ensino Tecnológico (Centec) é quem executa o evento. \nA edição de 2025 traz como tema “Planeta Água: a cultura oceânica para enfrentar as mudanças climáticas no meu território”\, o que evidencia o foco em questões socioambientais e na relação entre água\, território e inovação. Entre as atrações previstas estão palestras de grandes nomes nacionais\, espaços interativos\, torneios de robótica e de jogos\, exposições de projetos\, laboratórios de inovação e áreas voltadas para aprendizagem para todas as idades. \nCom esse formato\, a Feira do Conhecimento se consolida como uma plataforma inclusiva de difusão de saberes e tecnologias\, fomentando o diálogo entre estudantes\, professores\, profissionais do setor\, empreendedores e o público em geral. Esse ambiente propicia a visibilidade de iniciativas locais e regionais\, a promoção de networking e a integração entre educação\, pesquisa e mercado de inovação.
URL:https://centrodeeventos.ce.gov.br/evento/feira-do-conhecimento/
LOCATION:Pavilhão Oeste
CATEGORIES:Feiras e Exposições
ATTACH;FMTTYPE=image/png:https://centrodeeventos.ce.gov.br/wp-content/uploads/2025/05/FdC2025-Banner-500x400-1.png
END:VEVENT
BEGIN:VEVENT
DTSTART;VALUE=DATE:20251108
DTEND;VALUE=DATE:20251111
DTSTAMP:20260421T122619
CREATED:20250529T145410Z
LAST-MODIFIED:20251023T175224Z
UID:1439-1762560000-1762819199@centrodeeventos.ce.gov.br
SUMMARY:ESTÉTICA IN NORDESTE
DESCRIPTION:O evento reunirá profissionais\, estudantes e investidores do segmento da SAÚDE ESTÉTICA\, BELEZA e BEM-ESTAR\, com o objetivo de reciclagem de conhecimentos. As mais conceituadas marcas de produtos\, equipamentos e serviços se farão presentes\, apresentando seus lançamentos e tendências mercadológicas. Os mais renomados experts do setor\, estarão reunidos apresentando congressos\, simpósios e cursos aos interessados.
URL:https://centrodeeventos.ce.gov.br/evento/estetica-in-nordeste/
LOCATION:Pavilhão Oeste
CATEGORIES:Feiras e Exposições
ATTACH;FMTTYPE=image/jpeg:https://centrodeeventos.ce.gov.br/wp-content/uploads/2025/05/TELAO_1920X1080_KVEINE2025.jpg
END:VEVENT
END:VCALENDAR