BEGIN:VCALENDAR
VERSION:2.0
PRODID:-//Centro de Eventos do Ceará - ECPv6.13.0//NONSGML v1.0//EN
CALSCALE:GREGORIAN
METHOD:PUBLISH
X-WR-CALNAME:Centro de Eventos do Ceará
X-ORIGINAL-URL:https://centrodeeventos.ce.gov.br
X-WR-CALDESC:Eventos para Centro de Eventos do Ceará
REFRESH-INTERVAL;VALUE=DURATION:PT1H
X-Robots-Tag:noindex
X-PUBLISHED-TTL:PT1H
BEGIN:VTIMEZONE
TZID:America/Sao_Paulo
BEGIN:STANDARD
TZOFFSETFROM:-0300
TZOFFSETTO:-0300
TZNAME:-03
DTSTART:20250101T000000
END:STANDARD
END:VTIMEZONE
BEGIN:VEVENT
DTSTART;VALUE=DATE:20251114
DTEND;VALUE=DATE:20251117
DTSTAMP:20260421T122613
CREATED:20250530T123710Z
LAST-MODIFIED:20251107T165451Z
UID:1533-1763078400-1763337599@centrodeeventos.ce.gov.br
SUMMARY:COMBATE DAS MARCAS
DESCRIPTION:Após edições realizadas em Salvador\, Recife e Aracaju\, chega a Fortaleza o Combate das Marcas. \nConsiderado o maior feirão de carros e motos 0km do Nordeste e um dos maiores do Brasil\, promete apresentar uma experiência diferencia ao cearense no processo de escolha do seu próximo veículo.
URL:https://centrodeeventos.ce.gov.br/evento/combate-das-marcas/
LOCATION:Pavilhão Leste
CATEGORIES:Feiras e Exposições
ATTACH;FMTTYPE=image/jpeg:https://centrodeeventos.ce.gov.br/wp-content/uploads/2025/05/6076.35_Banner-site-Centro-de-Eventos_500x400px_REF00.jpg
END:VEVENT
END:VCALENDAR