BEGIN:VCALENDAR
VERSION:2.0
PRODID:-//Centro de Eventos do Ceará - ECPv6.13.0//NONSGML v1.0//EN
CALSCALE:GREGORIAN
METHOD:PUBLISH
X-ORIGINAL-URL:https://centrodeeventos.ce.gov.br
X-WR-CALDESC:Eventos para Centro de Eventos do Ceará
REFRESH-INTERVAL;VALUE=DURATION:PT1H
X-Robots-Tag:noindex
X-PUBLISHED-TTL:PT1H
BEGIN:VTIMEZONE
TZID:America/Sao_Paulo
BEGIN:STANDARD
TZOFFSETFROM:-0300
TZOFFSETTO:-0300
TZNAME:-03
DTSTART:20250101T000000
END:STANDARD
END:VTIMEZONE
BEGIN:VEVENT
DTSTART;VALUE=DATE:20251118
DTEND;VALUE=DATE:20251120
DTSTAMP:20260421T122651
CREATED:20250528T173839Z
LAST-MODIFIED:20251029T124240Z
UID:1243-1763424000-1763596799@centrodeeventos.ce.gov.br
SUMMARY:CONEXÕES DO TURISMO
DESCRIPTION:O Conexões do Turismo 2025 realizado pelo Visite Ceará traz o Ceará como protagonista\, destacando o estado em suas múltiplas dimensões da hospitalidade à cultura\, da gastronomia à inovação\, do sertão ao mar. Com uma programação voltada para compradores e profissionais do setor\, o evento combina palestras inspiradoras sobre as potencialidades do destino\, tendências do turismo e dos eventos e uma rodada de negócios estratégica\, que gera conexões diretas entre empresas e oportunidades.  Nesta edição\, o Conexões reforça o posicionamento do Ceará como palco de experiências\, conexões e grandes acontecimentos\, ampliando a visibilidade dos fornecedores locais\, fortalecendo o networking entre players do turismo e consolidando o evento como uma ferramenta essencial para o crescimento e o desenvolvimento sustentável do turismo cearense. \n\nSITE: https://conexoesdoturismo.com.br/ \nINSTAGRAM: https://www.instagram.com/conventionfortaleza/
URL:https://centrodeeventos.ce.gov.br/evento/conexao-turismo/
LOCATION:Pavilhão Leste
CATEGORIES:Feiras e Exposições
ATTACH;FMTTYPE=image/jpeg:https://centrodeeventos.ce.gov.br/wp-content/uploads/2025/05/Banner-conexoes-do-turismo-500x400px.jpg
END:VEVENT
BEGIN:VEVENT
DTSTART;VALUE=DATE:20251118
DTEND;VALUE=DATE:20251120
DTSTAMP:20260421T122651
CREATED:20250901T183338Z
LAST-MODIFIED:20250901T183338Z
UID:1675-1763424000-1763596799@centrodeeventos.ce.gov.br
SUMMARY:AUDIÇÃO DE BANDAS
DESCRIPTION:
URL:https://centrodeeventos.ce.gov.br/evento/audicao-de-bandas/
LOCATION:Pavilhão Oeste
CATEGORIES:Eventos corporativos
END:VEVENT
END:VCALENDAR