BEGIN:VCALENDAR
VERSION:2.0
PRODID:-//Centro de Eventos do Ceará - ECPv6.13.0//NONSGML v1.0//EN
CALSCALE:GREGORIAN
METHOD:PUBLISH
X-ORIGINAL-URL:https://centrodeeventos.ce.gov.br
X-WR-CALDESC:Eventos para Centro de Eventos do Ceará
REFRESH-INTERVAL;VALUE=DURATION:PT1H
X-Robots-Tag:noindex
X-PUBLISHED-TTL:PT1H
BEGIN:VTIMEZONE
TZID:America/Sao_Paulo
BEGIN:STANDARD
TZOFFSETFROM:-0300
TZOFFSETTO:-0300
TZNAME:-03
DTSTART:20250101T000000
END:STANDARD
END:VTIMEZONE
BEGIN:VEVENT
DTSTART;VALUE=DATE:20251126
DTEND;VALUE=DATE:20251128
DTSTAMP:20260421T121731
CREATED:20250530T124743Z
LAST-MODIFIED:20250530T124832Z
UID:1532-1764115200-1764287999@centrodeeventos.ce.gov.br
SUMMARY:20ª EXPOLOG
DESCRIPTION:20ª edição da EXPOLOG – Feira Internacional de Logística\n\n\n\n\nEm mais uma edição de sucesso\, a EXPOLOG reunirá os profissionais que projetam o futuro da logística no país e no mundo\, desempenhando um papel crucial na transformação e otimização do setor. A cada ano\, a EXPOLOG e seus eventos simultâneos integram novas tecnologias e abordagens inovadoras para enfrentar desafios globais\, como a crescente demanda por eficiência\, sustentabilidade e agilidade. \nA promoção do evento será do SETCARCE – Sindicato das Empresas de Transporte de Cargas e Logística do Estado do Ceará\, do Instituto Future e do Diário do Nordeste\, a correalização da CBP/CE – Câmara Brasil Portugal no Ceará e a realização da Prática Eventos.
URL:https://centrodeeventos.ce.gov.br/evento/20a-expolog/
LOCATION:Pavilhão Leste
CATEGORIES:Feiras e Exposições
ATTACH;FMTTYPE=image/jpeg:https://centrodeeventos.ce.gov.br/wp-content/uploads/2025/05/Captura-de-tela-2025-05-30-094810.jpg
END:VEVENT
END:VCALENDAR