BEGIN:VCALENDAR
VERSION:2.0
PRODID:-//Centro de Eventos do Ceará - ECPv6.13.0//NONSGML v1.0//EN
CALSCALE:GREGORIAN
METHOD:PUBLISH
X-WR-CALNAME:Centro de Eventos do Ceará
X-ORIGINAL-URL:https://centrodeeventos.ce.gov.br
X-WR-CALDESC:Eventos para Centro de Eventos do Ceará
REFRESH-INTERVAL;VALUE=DURATION:PT1H
X-Robots-Tag:noindex
X-PUBLISHED-TTL:PT1H
BEGIN:VTIMEZONE
TZID:America/Sao_Paulo
BEGIN:STANDARD
TZOFFSETFROM:-0300
TZOFFSETTO:-0300
TZNAME:-03
DTSTART:20250101T000000
END:STANDARD
END:VTIMEZONE
BEGIN:VEVENT
DTSTART;VALUE=DATE:20251209
DTEND;VALUE=DATE:20251213
DTSTAMP:20260421T103502
CREATED:20251126T142207Z
LAST-MODIFIED:20251126T142207Z
UID:1738-1765238400-1765583999@centrodeeventos.ce.gov.br
SUMMARY:MINISTÉRIO DAS MULHERES
DESCRIPTION:
URL:https://centrodeeventos.ce.gov.br/evento/ministerio-das-mulheres/
LOCATION:Pavilhão Leste
CATEGORIES:Eventos Governamentais
END:VEVENT
BEGIN:VEVENT
DTSTART;VALUE=DATE:20251212
DTEND;VALUE=DATE:20251213
DTSTAMP:20260421T103502
CREATED:20251126T142349Z
LAST-MODIFIED:20251126T142349Z
UID:1745-1765497600-1765583999@centrodeeventos.ce.gov.br
SUMMARY:DJ ERRORR
DESCRIPTION:
URL:https://centrodeeventos.ce.gov.br/evento/dj-errorr/
LOCATION:Pavilhão Oeste
CATEGORIES:Shows
END:VEVENT
BEGIN:VEVENT
DTSTART;VALUE=DATE:20251212
DTEND;VALUE=DATE:20251213
DTSTAMP:20260421T103502
CREATED:20251126T142445Z
LAST-MODIFIED:20251126T142445Z
UID:1748-1765497600-1765583999@centrodeeventos.ce.gov.br
SUMMARY:CONFRATERNIZAÇÃO SANEAMENTO BÁSICO - AEGE
DESCRIPTION:
URL:https://centrodeeventos.ce.gov.br/evento/confraternizacao-saneamento-basico-aege/
LOCATION:Pavilhão Oeste
CATEGORIES:Eventos corporativos
END:VEVENT
END:VCALENDAR