BEGIN:VCALENDAR
VERSION:2.0
PRODID:-//Centro de Eventos do Ceará - ECPv6.13.0//NONSGML v1.0//EN
CALSCALE:GREGORIAN
METHOD:PUBLISH
X-WR-CALNAME:Centro de Eventos do Ceará
X-ORIGINAL-URL:https://centrodeeventos.ce.gov.br
X-WR-CALDESC:Eventos para Centro de Eventos do Ceará
REFRESH-INTERVAL;VALUE=DURATION:PT1H
X-Robots-Tag:noindex
X-PUBLISHED-TTL:PT1H
BEGIN:VTIMEZONE
TZID:America/Sao_Paulo
BEGIN:STANDARD
TZOFFSETFROM:-0300
TZOFFSETTO:-0300
TZNAME:-03
DTSTART:20250101T000000
END:STANDARD
END:VTIMEZONE
BEGIN:VEVENT
DTSTART;VALUE=DATE:20251215
DTEND;VALUE=DATE:20251220
DTSTAMP:20260421T103503
CREATED:20251126T142558Z
LAST-MODIFIED:20251126T142558Z
UID:1752-1765756800-1766188799@centrodeeventos.ce.gov.br
SUMMARY:FORMATURA DE ESTUDANTES
DESCRIPTION:
URL:https://centrodeeventos.ce.gov.br/evento/formatura-de-estudantes/
LOCATION:Pavilhão Leste
CATEGORIES:Eventos corporativos
END:VEVENT
END:VCALENDAR