BEGIN:VCALENDAR
VERSION:2.0
PRODID:-//Centro de Eventos do Ceará - ECPv6.13.0//NONSGML v1.0//EN
CALSCALE:GREGORIAN
METHOD:PUBLISH
X-WR-CALNAME:Centro de Eventos do Ceará
X-ORIGINAL-URL:https://centrodeeventos.ce.gov.br
X-WR-CALDESC:Eventos para Centro de Eventos do Ceará
REFRESH-INTERVAL;VALUE=DURATION:PT1H
X-Robots-Tag:noindex
X-PUBLISHED-TTL:PT1H
BEGIN:VTIMEZONE
TZID:America/Sao_Paulo
BEGIN:STANDARD
TZOFFSETFROM:-0300
TZOFFSETTO:-0300
TZNAME:-03
DTSTART:20260101T000000
END:STANDARD
END:VTIMEZONE
BEGIN:VEVENT
DTSTART;VALUE=DATE:20260702
DTEND;VALUE=DATE:20260704
DTSTAMP:20260419T122012
CREATED:20260116T185554Z
LAST-MODIFIED:20260116T185554Z
UID:1849-1782950400-1783123199@centrodeeventos.ce.gov.br
SUMMARY:COCAL
DESCRIPTION:
URL:https://centrodeeventos.ce.gov.br/evento/cocal/
LOCATION:Pavilhão Leste
CATEGORIES:Conferência
END:VEVENT
BEGIN:VEVENT
DTSTART;TZID=America/Sao_Paulo:20260703T080000
DTEND;TZID=America/Sao_Paulo:20260703T170000
DTSTAMP:20260419T122012
CREATED:20260312T195049Z
LAST-MODIFIED:20260312T195049Z
UID:1965-1783065600-1783098000@centrodeeventos.ce.gov.br
SUMMARY:P3C REGIONAL NORDESTE 2026
DESCRIPTION:
URL:https://centrodeeventos.ce.gov.br/evento/p3c-regional-nordeste-2026/
LOCATION:Pavilhão Oeste
CATEGORIES:Feiras e Exposições
END:VEVENT
END:VCALENDAR