BEGIN:VCALENDAR
VERSION:2.0
PRODID:-//Centro de Eventos do Ceará - ECPv6.13.0//NONSGML v1.0//EN
CALSCALE:GREGORIAN
METHOD:PUBLISH
X-WR-CALNAME:Centro de Eventos do Ceará
X-ORIGINAL-URL:https://centrodeeventos.ce.gov.br
X-WR-CALDESC:Eventos para Centro de Eventos do Ceará
REFRESH-INTERVAL;VALUE=DURATION:PT1H
X-Robots-Tag:noindex
X-PUBLISHED-TTL:PT1H
BEGIN:VTIMEZONE
TZID:America/Sao_Paulo
BEGIN:STANDARD
TZOFFSETFROM:-0300
TZOFFSETTO:-0300
TZNAME:-03
DTSTART:20260101T000000
END:STANDARD
END:VTIMEZONE
BEGIN:VEVENT
DTSTART;VALUE=DATE:20260806
DTEND;VALUE=DATE:20260809
DTSTAMP:20260421T103409
CREATED:20260312T195322Z
LAST-MODIFIED:20260312T195322Z
UID:1970-1785974400-1786233599@centrodeeventos.ce.gov.br
SUMMARY:EXPANSÃO EXPERIENCE FORTALEZA
DESCRIPTION:
URL:https://centrodeeventos.ce.gov.br/evento/expansao-experience-fortaleza/
LOCATION:Pavilhão Oeste
CATEGORIES:Seminários
END:VEVENT
END:VCALENDAR