BEGIN:VCALENDAR
VERSION:2.0
PRODID:-//Centro de Eventos do Ceará - ECPv6.13.0//NONSGML v1.0//EN
CALSCALE:GREGORIAN
METHOD:PUBLISH
X-WR-CALNAME:Centro de Eventos do Ceará
X-ORIGINAL-URL:https://centrodeeventos.ce.gov.br
X-WR-CALDESC:Eventos para Centro de Eventos do Ceará
REFRESH-INTERVAL;VALUE=DURATION:PT1H
X-Robots-Tag:noindex
X-PUBLISHED-TTL:PT1H
BEGIN:VTIMEZONE
TZID:America/Sao_Paulo
BEGIN:STANDARD
TZOFFSETFROM:-0300
TZOFFSETTO:-0300
TZNAME:-03
DTSTART:20250101T000000
END:STANDARD
END:VTIMEZONE
BEGIN:VEVENT
DTSTART;VALUE=DATE:20250610
DTEND;VALUE=DATE:20250613
DTSTAMP:20260421T154007
CREATED:20250512T154718Z
LAST-MODIFIED:20250512T154718Z
UID:1037-1749513600-1749772799@centrodeeventos.ce.gov.br
SUMMARY:Conferência Estadual de Saúde do Trabalhador e da Trabalhadora
DESCRIPTION:
URL:https://centrodeeventos.ce.gov.br/evento/conferencia-estadual-de-saude-do-trabalhador-e-da-trabalhadora/
LOCATION:Pavilhão Oeste
CATEGORIES:Conferência
END:VEVENT
END:VCALENDAR