BEGIN:VCALENDAR
VERSION:2.0
PRODID:-//Centro de Eventos do Ceará - ECPv6.13.0//NONSGML v1.0//EN
CALSCALE:GREGORIAN
METHOD:PUBLISH
X-ORIGINAL-URL:https://centrodeeventos.ce.gov.br
X-WR-CALDESC:Eventos para Centro de Eventos do Ceará
REFRESH-INTERVAL;VALUE=DURATION:PT1H
X-Robots-Tag:noindex
X-PUBLISHED-TTL:PT1H
BEGIN:VTIMEZONE
TZID:America/Sao_Paulo
BEGIN:STANDARD
TZOFFSETFROM:-0300
TZOFFSETTO:-0300
TZNAME:-03
DTSTART:20250101T000000
END:STANDARD
END:VTIMEZONE
BEGIN:VEVENT
DTSTART;VALUE=DATE:20251103
DTEND;VALUE=DATE:20251106
DTSTAMP:20260421T142102
CREATED:20250901T182728Z
LAST-MODIFIED:20250925T195157Z
UID:1667-1762128000-1762387199@centrodeeventos.ce.gov.br
SUMMARY:34º CONGRESSO DE IRRIGAÇÃO E DREGAGEM - ABID
DESCRIPTION:
URL:https://centrodeeventos.ce.gov.br/evento/34o-congresso-de-irrigacao-e-dregagem-abid/
LOCATION:Pavilhão Oeste
CATEGORIES:Congresso
END:VEVENT
BEGIN:VEVENT
DTSTART;VALUE=DATE:20251106
DTEND;VALUE=DATE:20251108
DTSTAMP:20260421T142102
CREATED:20250901T182904Z
LAST-MODIFIED:20251021T140933Z
UID:1669-1762387200-1762559999@centrodeeventos.ce.gov.br
SUMMARY:IV EDIÇÃO DO CONGRESSO NACIONAL DO FÓRUM DO PODER JUDICIÁRIO PARA A SAÚDE
DESCRIPTION:Conselho Nacional de Justiça\, por meio do Fórum Nacional do Poder Judiciário para a Saúde – FONAJUS\, em conjunto com Tribunal de Justiça do Estado do Ceará\, realizará nos dias 6 e 7 de novembro\, na cidade de Fortaleza/CE\, o IV Congresso do Fórum Nacional do Judiciário para a Saúde.\nO congresso destina-se a aprimorar o conhecimento técnico sobre a saúde pública e suplementar\, discutindo os desafios da judicialização e encontrando soluções para esse problema. \nhttps://www.cnj.jus.br/agendas/iv-congresso-nacional-do-fonajus/
URL:https://centrodeeventos.ce.gov.br/evento/iv-edicao-do-congresso-nacional-do-forum-do-poder-judiciario-para-a-saude/
LOCATION:Pavilhão Leste
CATEGORIES:Congresso
ATTACH;FMTTYPE=image/jpeg:https://centrodeeventos.ce.gov.br/wp-content/uploads/2025/09/Banners-web-IV_congresso_fonajus_900x600.jpg
END:VEVENT
BEGIN:VEVENT
DTSTART;VALUE=DATE:20251114
DTEND;VALUE=DATE:20251116
DTSTAMP:20260421T142102
CREATED:20250530T120554Z
LAST-MODIFIED:20251110T162218Z
UID:1470-1763078400-1763251199@centrodeeventos.ce.gov.br
SUMMARY:5º AULÃO DO CAMBIO AUTOMÁTICO DAS AMERICAS
DESCRIPTION:O que é o Aulão?\n\n\n\n\n\nO 5° Aulão do Câmbio Automático das Américas é o maior evento de transmissão automática\, projetado para capacitar profissionais da indústria automobilística\, aprimorar habilidades e impulsionar o sucesso na carreira.\nTrocar conhecimentos com outros profissionais da mecânica fortalece a carreira\, amplia a rede de contatos e cria novas oportunidades para projetos e parcerias.\nSerão dois dias de imersão com os mais renomados técnicos especialistas em transmissões automáticas\, proporcionando aprendizado e experiências únicas.\nAlém de aprender a diagnosticar defeitos no câmbio automático\, amplie a sua rede de contatos pelo Whatsapp no ramo da Mecânica Automotiva!
URL:https://centrodeeventos.ce.gov.br/evento/5o-aulao-do-cambio-automatico-das-americas/
LOCATION:Pavilhão Leste
CATEGORIES:Congresso,Seminários
ATTACH;FMTTYPE=image/jpeg:https://centrodeeventos.ce.gov.br/wp-content/uploads/2025/05/Imagem-1920x1080-CADA.jpg
END:VEVENT
BEGIN:VEVENT
DTSTART;VALUE=DATE:20251114
DTEND;VALUE=DATE:20251116
DTSTAMP:20260421T142102
CREATED:20250530T123251Z
LAST-MODIFIED:20251021T171648Z
UID:1438-1763078400-1763251199@centrodeeventos.ce.gov.br
SUMMARY:SALES EXPERIENCE
DESCRIPTION:O Sales Experience é o maior evento de aceleração empresarial do Nordeste\, reunindo empresários\, gestores e profissionais de diferentes segmentos para dois dias intensos de conteúdo\, networking e estratégia. \nCom palestras de nomes como Paulo Guedes\, Gui de Vendas e Augusto Morais\, o evento entrega uma imersão prática sobre vendas\, gestão e crescimento de negócios em um ambiente de alta performance. \nData: 14 e 15 de novembro de 2025\nEvento feito para: Empresários\, empreendedores e gestores que buscam aprimorar resultados e expandir suas empresas. \nLink do site oficial: https://fortaleza.salesexperiencebrasil.com.br/
URL:https://centrodeeventos.ce.gov.br/evento/sales-experience-2/
LOCATION:Pavilhão Oeste
CATEGORIES:Congresso,Seminários
ATTACH;FMTTYPE=image/jpeg:https://centrodeeventos.ce.gov.br/wp-content/uploads/2025/05/salesexperience2025.jpg
END:VEVENT
BEGIN:VEVENT
DTSTART;VALUE=DATE:20251127
DTEND;VALUE=DATE:20251129
DTSTAMP:20260421T142102
CREATED:20250530T125149Z
LAST-MODIFIED:20251112T194711Z
UID:1531-1764201600-1764374399@centrodeeventos.ce.gov.br
SUMMARY:ABRINT 2025
DESCRIPTION:CONECTE-SE\, APRENDA E CRESÇA\n\n\n\n\nO Abrint Nordeste é o maior evento de provedores de internet do Nordeste que busca estimular o aprendizado e desenvolvimento de provedores e fornecedores locais. O evento proporciona proximidade\, network\, troca de experiências e aprendizado\, no intuito de fomentar o crescimento do mercado regional de telecomunicações. \nO evento reuni empresários\, investidores\, consultores\, fornecedores\, especialistas em tecnologia\, decisores políticos e líderes do mercado para trocar conhecimento\, experiência e discutir os tópicos mais desafiantes do mercado de provedores de internet.
URL:https://centrodeeventos.ce.gov.br/evento/abrint-2025/
LOCATION:Pavilhão Oeste
CATEGORIES:Congresso,Feiras e Exposições
ATTACH;FMTTYPE=image/png:https://centrodeeventos.ce.gov.br/wp-content/uploads/2025/05/AbrintNE-Banner-Site-500x400px.png
END:VEVENT
BEGIN:VEVENT
DTSTART;VALUE=DATE:20251127
DTEND;VALUE=DATE:20251129
DTSTAMP:20260421T142102
CREATED:20250901T183416Z
LAST-MODIFIED:20250901T183416Z
UID:1678-1764201600-1764374399@centrodeeventos.ce.gov.br
SUMMARY:INTERNATIONAL ENERGY SYMPOSIUM
DESCRIPTION:
URL:https://centrodeeventos.ce.gov.br/evento/international-energy-symposium/
LOCATION:Pavilhão Oeste
CATEGORIES:Congresso
END:VEVENT
END:VCALENDAR