BEGIN:VCALENDAR
VERSION:2.0
PRODID:-//Centro de Eventos do Ceará - ECPv6.13.0//NONSGML v1.0//EN
CALSCALE:GREGORIAN
METHOD:PUBLISH
X-WR-CALNAME:Centro de Eventos do Ceará
X-ORIGINAL-URL:https://centrodeeventos.ce.gov.br
X-WR-CALDESC:Eventos para Centro de Eventos do Ceará
REFRESH-INTERVAL;VALUE=DURATION:PT1H
X-Robots-Tag:noindex
X-PUBLISHED-TTL:PT1H
BEGIN:VTIMEZONE
TZID:America/Sao_Paulo
BEGIN:STANDARD
TZOFFSETFROM:-0300
TZOFFSETTO:-0300
TZNAME:-03
DTSTART:20250101T000000
END:STANDARD
END:VTIMEZONE
BEGIN:VEVENT
DTSTART;VALUE=DATE:20251106
DTEND;VALUE=DATE:20251108
DTSTAMP:20260421T155711
CREATED:20250901T182904Z
LAST-MODIFIED:20251021T140933Z
UID:1669-1762387200-1762559999@centrodeeventos.ce.gov.br
SUMMARY:IV EDIÇÃO DO CONGRESSO NACIONAL DO FÓRUM DO PODER JUDICIÁRIO PARA A SAÚDE
DESCRIPTION:Conselho Nacional de Justiça\, por meio do Fórum Nacional do Poder Judiciário para a Saúde – FONAJUS\, em conjunto com Tribunal de Justiça do Estado do Ceará\, realizará nos dias 6 e 7 de novembro\, na cidade de Fortaleza/CE\, o IV Congresso do Fórum Nacional do Judiciário para a Saúde.\nO congresso destina-se a aprimorar o conhecimento técnico sobre a saúde pública e suplementar\, discutindo os desafios da judicialização e encontrando soluções para esse problema. \nhttps://www.cnj.jus.br/agendas/iv-congresso-nacional-do-fonajus/
URL:https://centrodeeventos.ce.gov.br/evento/iv-edicao-do-congresso-nacional-do-forum-do-poder-judiciario-para-a-saude/
LOCATION:Pavilhão Leste
CATEGORIES:Congresso
ATTACH;FMTTYPE=image/jpeg:https://centrodeeventos.ce.gov.br/wp-content/uploads/2025/09/Banners-web-IV_congresso_fonajus_900x600.jpg
END:VEVENT
END:VCALENDAR