BEGIN:VCALENDAR
VERSION:2.0
PRODID:-//Centro de Eventos do Ceará - ECPv6.13.0//NONSGML v1.0//EN
CALSCALE:GREGORIAN
METHOD:PUBLISH
X-ORIGINAL-URL:https://centrodeeventos.ce.gov.br
X-WR-CALDESC:Eventos para Centro de Eventos do Ceará
REFRESH-INTERVAL;VALUE=DURATION:PT1H
X-Robots-Tag:noindex
X-PUBLISHED-TTL:PT1H
BEGIN:VTIMEZONE
TZID:America/Sao_Paulo
BEGIN:STANDARD
TZOFFSETFROM:-0300
TZOFFSETTO:-0300
TZNAME:-03
DTSTART:20260101T000000
END:STANDARD
END:VTIMEZONE
BEGIN:VEVENT
DTSTART;VALUE=DATE:20260206
DTEND;VALUE=DATE:20260208
DTSTAMP:20260421T104418
CREATED:20260126T200607Z
LAST-MODIFIED:20260128T141959Z
UID:1883-1770336000-1770508799@centrodeeventos.ce.gov.br
SUMMARY:ENCONTRO PEDAGÓGICO DA UNIFOR
DESCRIPTION:
URL:https://centrodeeventos.ce.gov.br/evento/encontro-pedagogico-da-unifor/
LOCATION:Pavilhão Oeste
CATEGORIES:Congresso
ATTACH;FMTTYPE=image/png:https://centrodeeventos.ce.gov.br/wp-content/uploads/2026/01/BANNER-DIGITAL-CENTRO-DE-EVENTOS.png
END:VEVENT
END:VCALENDAR