BEGIN:VCALENDAR
VERSION:2.0
PRODID:-//Centro de Eventos do Ceará - ECPv6.13.0//NONSGML v1.0//EN
CALSCALE:GREGORIAN
METHOD:PUBLISH
X-WR-CALNAME:Centro de Eventos do Ceará
X-ORIGINAL-URL:https://centrodeeventos.ce.gov.br
X-WR-CALDESC:Eventos para Centro de Eventos do Ceará
REFRESH-INTERVAL;VALUE=DURATION:PT1H
X-Robots-Tag:noindex
X-PUBLISHED-TTL:PT1H
BEGIN:VTIMEZONE
TZID:America/Sao_Paulo
BEGIN:STANDARD
TZOFFSETFROM:-0300
TZOFFSETTO:-0300
TZNAME:-03
DTSTART:20250101T000000
END:STANDARD
END:VTIMEZONE
BEGIN:VEVENT
DTSTART;VALUE=DATE:20250516
DTEND;VALUE=DATE:20250517
DTSTAMP:20260422T034533
CREATED:20250430T145015Z
LAST-MODIFIED:20250430T192957Z
UID:710-1747353600-1747439999@centrodeeventos.ce.gov.br
SUMMARY:PAPO AO VIVO
DESCRIPTION:O Papo Condominial Ao Vivo será um evento presencial voltado para profissionais do setor condominial. Tendo a frente os diretores do Papo Condominial Ceará\, Carlos Campos e Priscila Girão\, o evento busca promover o aprendizado\, a troca de experiências e o networking entre os participantes. Com uma programação intensa\, o evento oferece palestras\, painéis e talk shows conduzidos por especialistas renomados.​ \nO evento contará com 12 horas de conteúdo\, incluindo palestras sobre gestão condominial\, segurança\, inteligência artificial e direito condominial. Além de transmissão ao vivo para todo o mundo e com show de encerramento.
URL:https://centrodeeventos.ce.gov.br/evento/papo-ao-vivo/
LOCATION:Pavilhão Oeste
CATEGORIES:Eventos corporativos
ATTACH;FMTTYPE=image/jpeg:https://centrodeeventos.ce.gov.br/wp-content/uploads/2025/04/2d98c531-a0d4-45a1-884d-d57912338746.jpg
END:VEVENT
END:VCALENDAR