BEGIN:VCALENDAR
VERSION:2.0
PRODID:-//Centro de Eventos do Ceará - ECPv6.13.0//NONSGML v1.0//EN
CALSCALE:GREGORIAN
METHOD:PUBLISH
X-WR-CALNAME:Centro de Eventos do Ceará
X-ORIGINAL-URL:https://centrodeeventos.ce.gov.br
X-WR-CALDESC:Eventos para Centro de Eventos do Ceará
REFRESH-INTERVAL;VALUE=DURATION:PT1H
X-Robots-Tag:noindex
X-PUBLISHED-TTL:PT1H
BEGIN:VTIMEZONE
TZID:America/Sao_Paulo
BEGIN:STANDARD
TZOFFSETFROM:-0300
TZOFFSETTO:-0300
TZNAME:-03
DTSTART:20250101T000000
END:STANDARD
END:VTIMEZONE
BEGIN:VEVENT
DTSTART;VALUE=DATE:20250523
DTEND;VALUE=DATE:20250525
DTSTAMP:20260422T034532
CREATED:20250430T154840Z
LAST-MODIFIED:20250430T154840Z
UID:734-1747958400-1748131199@centrodeeventos.ce.gov.br
SUMMARY:EXPO DIREITO 2025
DESCRIPTION:Prepare-se para o evento mais importante do mercado jurídico nacional\, realizado pelo Grupo Notorium que desde 2012 já transformou a vida\, os estudos e as carreiras de mais de 50 mil pessoas. \nSerão 2 dias de imersão com as maiores referências do Direito Brasileiro\, acessando conteúdos sobre todas as áreas do conhecimento jurídico\, empreendedorismo\, gestão\, marketing. \nOu seja\, é o lugar certo\, com as pessoas certas\, para transformar seu futuro no Direito para sempre.
URL:https://centrodeeventos.ce.gov.br/evento/expo-direito-2025/
LOCATION:Pavilhão Leste
CATEGORIES:Congresso,Eventos corporativos
ATTACH;FMTTYPE=image/webp:https://centrodeeventos.ce.gov.br/wp-content/uploads/2025/04/expo-direito-brasil-cover.webp
END:VEVENT
END:VCALENDAR