BEGIN:VCALENDAR
VERSION:2.0
PRODID:-//Centro de Eventos do Ceará - ECPv6.13.0//NONSGML v1.0//EN
CALSCALE:GREGORIAN
METHOD:PUBLISH
X-ORIGINAL-URL:https://centrodeeventos.ce.gov.br
X-WR-CALDESC:Eventos para Centro de Eventos do Ceará
REFRESH-INTERVAL;VALUE=DURATION:PT1H
X-Robots-Tag:noindex
X-PUBLISHED-TTL:PT1H
BEGIN:VTIMEZONE
TZID:America/Sao_Paulo
BEGIN:STANDARD
TZOFFSETFROM:-0300
TZOFFSETTO:-0300
TZNAME:-03
DTSTART:20250101T000000
END:STANDARD
END:VTIMEZONE
BEGIN:VEVENT
DTSTART;VALUE=DATE:20250514
DTEND;VALUE=DATE:20250515
DTSTAMP:20260422T000844
CREATED:20250430T150322Z
LAST-MODIFIED:20250512T154112Z
UID:715-1747180800-1747267199@centrodeeventos.ce.gov.br
SUMMARY:Encontro da Secretaria de Segurança Pública
DESCRIPTION:
URL:https://centrodeeventos.ce.gov.br/evento/encontro-da-secretaria-de-seguranca-publica/
LOCATION:Pavilhão Leste
CATEGORIES:Eventos Governamentais
END:VEVENT
BEGIN:VEVENT
DTSTART;VALUE=DATE:20250526
DTEND;VALUE=DATE:20250527
DTSTAMP:20260422T000844
CREATED:20250430T193214Z
LAST-MODIFIED:20250527T124956Z
UID:783-1748217600-1748303999@centrodeeventos.ce.gov.br
SUMMARY:CERTIFICAÇÃO DO CURSO AMOR NA MASSA - CEARÁ SEM FOME
DESCRIPTION:
URL:https://centrodeeventos.ce.gov.br/evento/certificacao-do-curso-amor-na-massa/
LOCATION:Pavilhão Oeste
CATEGORIES:Eventos Governamentais
END:VEVENT
BEGIN:VEVENT
DTSTART;VALUE=DATE:20250527
DTEND;VALUE=DATE:20250528
DTSTAMP:20260422T000844
CREATED:20250430T155022Z
LAST-MODIFIED:20250512T154148Z
UID:737-1748304000-1748390399@centrodeeventos.ce.gov.br
SUMMARY:Estratégia Nacional de Contratações Pública
DESCRIPTION:
URL:https://centrodeeventos.ce.gov.br/evento/estrategia-nacional-de-contratacoes-publica/
LOCATION:Pavilhão Leste
CATEGORIES:Eventos Governamentais
END:VEVENT
END:VCALENDAR