BEGIN:VCALENDAR
VERSION:2.0
PRODID:-//Centro de Eventos do Ceará - ECPv6.13.0//NONSGML v1.0//EN
CALSCALE:GREGORIAN
METHOD:PUBLISH
X-WR-CALNAME:Centro de Eventos do Ceará
X-ORIGINAL-URL:https://centrodeeventos.ce.gov.br
X-WR-CALDESC:Eventos para Centro de Eventos do Ceará
REFRESH-INTERVAL;VALUE=DURATION:PT1H
X-Robots-Tag:noindex
X-PUBLISHED-TTL:PT1H
BEGIN:VTIMEZONE
TZID:America/Sao_Paulo
BEGIN:STANDARD
TZOFFSETFROM:-0300
TZOFFSETTO:-0300
TZNAME:-03
DTSTART:20250101T000000
END:STANDARD
END:VTIMEZONE
BEGIN:VEVENT
DTSTART;VALUE=DATE:20251016
DTEND;VALUE=DATE:20251017
DTSTAMP:20260421T173906
CREATED:20250929T124943Z
LAST-MODIFIED:20250929T124943Z
UID:1698-1760572800-1760659199@centrodeeventos.ce.gov.br
SUMMARY:CEARÁ CIENTÍFICO
DESCRIPTION:
URL:https://centrodeeventos.ce.gov.br/evento/ceara-cientifico-2/
LOCATION:Pavilhão Leste
CATEGORIES:Eventos Governamentais
END:VEVENT
END:VCALENDAR