BEGIN:VCALENDAR
VERSION:2.0
PRODID:-//Centro de Eventos do Ceará - ECPv6.13.0//NONSGML v1.0//EN
CALSCALE:GREGORIAN
METHOD:PUBLISH
X-WR-CALNAME:Centro de Eventos do Ceará
X-ORIGINAL-URL:https://centrodeeventos.ce.gov.br
X-WR-CALDESC:Eventos para Centro de Eventos do Ceará
REFRESH-INTERVAL;VALUE=DURATION:PT1H
X-Robots-Tag:noindex
X-PUBLISHED-TTL:PT1H
BEGIN:VTIMEZONE
TZID:America/Sao_Paulo
BEGIN:STANDARD
TZOFFSETFROM:-0300
TZOFFSETTO:-0300
TZNAME:-03
DTSTART:20250101T000000
END:STANDARD
END:VTIMEZONE
BEGIN:VEVENT
DTSTART;TZID=America/Sao_Paulo:20250805T150000
DTEND;TZID=America/Sao_Paulo:20250806T210000
DTSTAMP:20260423T160050
CREATED:20250528T145103Z
LAST-MODIFIED:20250528T164632Z
UID:1190-1754406000-1754514000@centrodeeventos.ce.gov.br
SUMMARY:EMBALA NORDESTE
DESCRIPTION:Embala Nordeste\n\n\n\nA grande vitrine de tecnologias\, processos e soluções de embalagens do Nordeste brasileiro\n\n\n\n\nA EMBALA NORDESTE apresenta tecnologias\, novidades e tendências em máquinas\, equipamentos serviços associados para envase e embalagem de produtos\, tendo como foco principalmente indústrias de alimentos\, bebidas e químicas\, entre outras. \nDesde 2006\, a EMBALA NORDESTE apresenta soluções às indústrias\, sendo reconhecida por toda a cadeia de fornecedores e usuários-finais que a colocam no seu calendário oficial. \nEm sua edição de 2025\, a feira estará ainda mais consolidada como referência e principal ponto de encontro para profissionais que decidem compras nas indústrias da região. \nILHA TEMÁTICA\nA feira inclui também uma área especialmente dedicada a promover o desenvolvimento de Marcas Próprias e Terceirização Industrial\, a Ilha Temática Private Label Norte-Nordeste.
URL:https://centrodeeventos.ce.gov.br/evento/embala-nordeste/
LOCATION:Pavilhão Oeste
CATEGORIES:Feiras e Exposições
ATTACH;FMTTYPE=image/jpeg:https://centrodeeventos.ce.gov.br/wp-content/uploads/2025/05/ea919fd5-49de-45d6-8f7b-828cf4c54c4f.jpg
END:VEVENT
BEGIN:VEVENT
DTSTART;VALUE=DATE:20250819
DTEND;VALUE=DATE:20250823
DTSTAMP:20260423T160050
CREATED:20250528T174536Z
LAST-MODIFIED:20250528T174536Z
UID:1242-1755561600-1755907199@centrodeeventos.ce.gov.br
SUMMARY:EXPOCONSTRUIR
DESCRIPTION:Sobre a expoconstruir\n\n\n\n\n\n\n\n\n\n\n\n\n\n\n\nApós o grande sucesso da 6ª edição da  EXPOCONSTRUIR Nordeste 2024\, o nosso próximo encontro será realizado de 19 a 22 de agosto de 2025 novamente no Centro de Eventos do Ceará\, entrando definitivamente no calendário anual das principais feiras regionais do pais\, reunindo indústrias expositoras de todo Brasil para atender e fazer negócios junto aos lojistas\, atacadistas\, construtores e profissionais de toda a cadeia produtiva da construção do Norte e Nordeste. \nA Feira\, que tem o apoio oficial da Acomac Ceará e do SINDUSCON Ceará\, terá uma dinâmica diferenciada de funcionamento\, com demonstração in loco da aplicação de novos materiais e tecnologias.
URL:https://centrodeeventos.ce.gov.br/evento/expoconstruir/
LOCATION:Pavilhão Oeste
CATEGORIES:Feiras e Exposições
ATTACH;FMTTYPE=image/png:https://centrodeeventos.ce.gov.br/wp-content/uploads/2025/05/images-5.png
END:VEVENT
BEGIN:VEVENT
DTSTART;VALUE=DATE:20250822
DTEND;VALUE=DATE:20250825
DTSTAMP:20260423T160050
CREATED:20250528T175659Z
LAST-MODIFIED:20250528T175659Z
UID:1240-1755820800-1756079999@centrodeeventos.ce.gov.br
SUMMARY:CONNECT FIT EXPERIENCE
DESCRIPTION:VOCÊ ESTÁ PRONTO PRA VIVER ISSO?\n\n\n\n\nImagine estar no meio de 15 mil pessoas que vivem o mesmo lifestyle que você:  gente que treina pesado\, ama um desafio\, respeita quem vive o corre e não abre mão da alta performance. \nA Connect Fit é o ponto de encontro de praticantes de atividades físicas\, atletas\, marcas\, influenciadores\, lojistas e profissionais do setor. \nTodo mundo num mesmo lugar\, respirando treino\, suplementação e evolução. \nMais do que uma feira\, a Connect Fit é o ponto de encontro de quem leva o fitness a sério — como carreira\, negócio\, propósito e estilo de vida. \nUm ambiente pulsante\, onde cada conversa pode virar uma parceria e cada palestra pode virar um salto na sua jornada profissional.
URL:https://centrodeeventos.ce.gov.br/evento/connect-fit-experience/
LOCATION:Pavilhão Leste
CATEGORIES:Feiras e Exposições
ATTACH;FMTTYPE=image/webp:https://centrodeeventos.ce.gov.br/wp-content/uploads/2025/05/Camada-2-copiar-2-1-909x1024-1.webp
END:VEVENT
END:VCALENDAR