BEGIN:VCALENDAR
VERSION:2.0
PRODID:-//Centro de Eventos do Ceará - ECPv6.13.0//NONSGML v1.0//EN
CALSCALE:GREGORIAN
METHOD:PUBLISH
X-WR-CALNAME:Centro de Eventos do Ceará
X-ORIGINAL-URL:https://centrodeeventos.ce.gov.br
X-WR-CALDESC:Eventos para Centro de Eventos do Ceará
REFRESH-INTERVAL;VALUE=DURATION:PT1H
X-Robots-Tag:noindex
X-PUBLISHED-TTL:PT1H
BEGIN:VTIMEZONE
TZID:America/Sao_Paulo
BEGIN:STANDARD
TZOFFSETFROM:-0300
TZOFFSETTO:-0300
TZNAME:-03
DTSTART:20260101T000000
END:STANDARD
END:VTIMEZONE
BEGIN:VEVENT
DTSTART;VALUE=DATE:20260710
DTEND;VALUE=DATE:20260713
DTSTAMP:20260421T073533
CREATED:20260116T185819Z
LAST-MODIFIED:20260116T185819Z
UID:1855-1783641600-1783900799@centrodeeventos.ce.gov.br
SUMMARY:SANA
DESCRIPTION:
URL:https://centrodeeventos.ce.gov.br/evento/sana-2/
LOCATION:Pavilhão Oeste
CATEGORIES:Feiras e Exposições
END:VEVENT
BEGIN:VEVENT
DTSTART;VALUE=DATE:20260721
DTEND;VALUE=DATE:20260723
DTSTAMP:20260421T073533
CREATED:20260116T185958Z
LAST-MODIFIED:20260116T185958Z
UID:1862-1784592000-1784764799@centrodeeventos.ce.gov.br
SUMMARY:NEGÓCIO DA MODA
DESCRIPTION:
URL:https://centrodeeventos.ce.gov.br/evento/negocio-da-moda/
LOCATION:Pavilhão Oeste
CATEGORIES:Feiras e Exposições
END:VEVENT
BEGIN:VEVENT
DTSTART;VALUE=DATE:20260804
DTEND;VALUE=DATE:20260806
DTSTAMP:20260421T073533
CREATED:20260116T190215Z
LAST-MODIFIED:20260116T190215Z
UID:1866-1785801600-1785974399@centrodeeventos.ce.gov.br
SUMMARY:EMBALA NORDESTE
DESCRIPTION:
URL:https://centrodeeventos.ce.gov.br/evento/embala-nordeste-2/
LOCATION:Pavilhão Oeste
CATEGORIES:Feiras e Exposições
END:VEVENT
BEGIN:VEVENT
DTSTART;VALUE=DATE:20260811
DTEND;VALUE=DATE:20260815
DTSTAMP:20260421T073533
CREATED:20260116T190307Z
LAST-MODIFIED:20260116T190307Z
UID:1868-1786406400-1786751999@centrodeeventos.ce.gov.br
SUMMARY:EXPOCONSTRUIR
DESCRIPTION:
URL:https://centrodeeventos.ce.gov.br/evento/expoconstruir-2/
LOCATION:Pavilhão Leste
CATEGORIES:Feiras e Exposições
END:VEVENT
BEGIN:VEVENT
DTSTART;VALUE=DATE:20260822
DTEND;VALUE=DATE:20260824
DTSTAMP:20260421T073533
CREATED:20260312T201224Z
LAST-MODIFIED:20260312T201224Z
UID:1973-1787356800-1787529599@centrodeeventos.ce.gov.br
SUMMARY:FITNESS MUSCLE
DESCRIPTION:
URL:https://centrodeeventos.ce.gov.br/evento/fitness-muscle/
LOCATION:Pavilhão Leste
CATEGORIES:Feiras e Exposições
END:VEVENT
END:VCALENDAR