BEGIN:VCALENDAR
VERSION:2.0
PRODID:-//Centro de Eventos do Ceará - ECPv6.13.0//NONSGML v1.0//EN
CALSCALE:GREGORIAN
METHOD:PUBLISH
X-ORIGINAL-URL:https://centrodeeventos.ce.gov.br
X-WR-CALDESC:Eventos para Centro de Eventos do Ceará
REFRESH-INTERVAL;VALUE=DURATION:PT1H
X-Robots-Tag:noindex
X-PUBLISHED-TTL:PT1H
BEGIN:VTIMEZONE
TZID:America/Sao_Paulo
BEGIN:STANDARD
TZOFFSETFROM:-0300
TZOFFSETTO:-0300
TZNAME:-03
DTSTART:20250101T000000
END:STANDARD
END:VTIMEZONE
BEGIN:VEVENT
DTSTART;VALUE=DATE:20250712
DTEND;VALUE=DATE:20250713
DTSTAMP:20260422T000830
CREATED:20250627T131522Z
LAST-MODIFIED:20250627T131522Z
UID:1574-1752278400-1752364799@centrodeeventos.ce.gov.br
SUMMARY:FORMATURA CHRISTUS
DESCRIPTION:
URL:https://centrodeeventos.ce.gov.br/evento/formatura-christus/
LOCATION:Pavilhão Oeste
CATEGORIES:Formaturas
END:VEVENT
BEGIN:VEVENT
DTSTART;VALUE=DATE:20250726
DTEND;VALUE=DATE:20250727
DTSTAMP:20260422T000830
CREATED:20250527T165847Z
LAST-MODIFIED:20250527T165847Z
UID:1178-1753488000-1753574399@centrodeeventos.ce.gov.br
SUMMARY:FORMATURA UNIFOR 2025.1
DESCRIPTION:
URL:https://centrodeeventos.ce.gov.br/evento/formatura-unifor-2025-1/
LOCATION:Pavilhão Oeste
CATEGORIES:Formaturas
ATTACH;FMTTYPE=image/png:https://centrodeeventos.ce.gov.br/wp-content/uploads/2025/05/LOGO-2.png
END:VEVENT
BEGIN:VEVENT
DTSTART;VALUE=DATE:20250729
DTEND;VALUE=DATE:20250802
DTSTAMP:20260422T000830
CREATED:20250527T165936Z
LAST-MODIFIED:20250527T165936Z
UID:1181-1753747200-1754092799@centrodeeventos.ce.gov.br
SUMMARY:FORMATURA PROMOVE
DESCRIPTION:
URL:https://centrodeeventos.ce.gov.br/evento/formatura-promove/
LOCATION:Pavilhão Leste
CATEGORIES:Formaturas
END:VEVENT
END:VCALENDAR