BEGIN:VCALENDAR
VERSION:2.0
PRODID:-//Centro de Eventos do Ceará - ECPv6.13.0//NONSGML v1.0//EN
CALSCALE:GREGORIAN
METHOD:PUBLISH
X-WR-CALNAME:Centro de Eventos do Ceará
X-ORIGINAL-URL:https://centrodeeventos.ce.gov.br
X-WR-CALDESC:Eventos para Centro de Eventos do Ceará
REFRESH-INTERVAL;VALUE=DURATION:PT1H
X-Robots-Tag:noindex
X-PUBLISHED-TTL:PT1H
BEGIN:VTIMEZONE
TZID:America/Sao_Paulo
BEGIN:STANDARD
TZOFFSETFROM:-0300
TZOFFSETTO:-0300
TZNAME:-03
DTSTART:20250101T000000
END:STANDARD
END:VTIMEZONE
BEGIN:VEVENT
DTSTART;VALUE=DATE:20250605
DTEND;VALUE=DATE:20250608
DTSTAMP:20260420T035606
CREATED:20250512T151712Z
LAST-MODIFIED:20250605T123749Z
UID:1015-1749081600-1749340799@centrodeeventos.ce.gov.br
SUMMARY:PECNORDESTE 2025
DESCRIPTION:O Seminário Nordestino do Agro – PECNORDESTE é um importante evento do agronegócio promovido pela Federação da Agricultura e Pecuária do Estado do Ceará – FAEC\, pelo Serviço Nacional de Aprendizagem Rural do Ceará – SENAR/CE\, pelo Serviço de Apoio às Micro e Pequenas Empresas do Estado do Ceará – SEBRAE/CE e pelos Sindicatos Rurais\, que busca a capacitação de produtores rurais\, estudantes\, profissionais e micro e pequenas empresários do setor\, sempre abordando temáticas relevantes para o agronegócio nordestino e trazendo o debate de temas que impactam no dia a dia do produtor rural e na sua atividade. \nAlém do seminário\, o evento contará com a realização da Feira do Agro Norte e Nordeste que ocorrerá nos 2 Pavilhões do Centro de Eventos\, com uma área total de 27.000m2\, com a participação de empresas e instituições ligadas ao agronegócio. \nSaiba mais: https://pecnordeste.com.br/
URL:https://centrodeeventos.ce.gov.br/evento/pecnordeste-2025/
LOCATION:Oeste e Leste
CATEGORIES:Seminários
ATTACH;FMTTYPE=image/jpeg:https://centrodeeventos.ce.gov.br/wp-content/uploads/2025/05/WhatsApp-Image-2025-03-31-at-14.27.09-819x1024-1.jpeg
END:VEVENT
BEGIN:VEVENT
DTSTART;VALUE=DATE:20250616
DTEND;VALUE=DATE:20250619
DTSTAMP:20260420T035606
CREATED:20250527T130523Z
LAST-MODIFIED:20250605T123847Z
UID:1137-1750032000-1750291199@centrodeeventos.ce.gov.br
SUMMARY:Seminário de Gestores Públicos – Prefeitos 2025
DESCRIPTION:O Seminário de Gestores Públicos – Prefeitos 2025 chega à sua 13ª edição consolidado como um dos maiores eventos de gestão pública do Brasil. Focado em temas de impacto direto na administração pública\, o seminário acompanha as transformações do setor\, buscando sempre inovar e se atualizar. Ele serve como um importante ponto de encontro para gestores públicos\, servidores\, representantes políticos e cidadãos\, promovendo um diálogo contínuo sobre as necessidades e desafios da gestão pública no Ceará e no Brasil. \nCom o objetivo de promover debates construtivos sobre temas essenciais como governança\, sustentabilidade e inovação\, o seminário se reafirma como uma plataforma crucial para os profissionais da gestão pública. A cada edição\, o evento se renova\, apresentando conteúdos atualizados e de relevância\, apoiados na experiência acumulada ao longo de 12 edições anteriores e no constante aprimoramento de suas práticas.
URL:https://centrodeeventos.ce.gov.br/evento/seminario-de-gestores-publicos-prefeitos-2025/
LOCATION:Pavilhão Oeste
CATEGORIES:Seminários
ATTACH;FMTTYPE=image/png:https://centrodeeventos.ce.gov.br/wp-content/uploads/2025/05/BANNER-500x400-px-SGP.png
END:VEVENT
BEGIN:VEVENT
DTSTART;VALUE=DATE:20250621
DTEND;VALUE=DATE:20250623
DTSTAMP:20260420T035606
CREATED:20250527T131224Z
LAST-MODIFIED:20250527T131224Z
UID:1144-1750464000-1750636799@centrodeeventos.ce.gov.br
SUMMARY:Retiro de Transbordamento da Escuta - 2025
DESCRIPTION:Escutar para melhor fazer a vontade de Deus! \nEste é o objetivo do Retiro de Transbordamento da Escuta que viveremos nos dias 21 e 22 de junho. Em todo o mundo\, irmãos de mais de 30 países se reúnem como Comunidade de Vida e de Aliança para ouvir a pregação do nosso fundador e moderador geral\, Moysés Azevedo. \nE como Casa Mãe teremos a grande graça de ouvir nosso fundador presencialmente. \nA escuta é o transbordamento do Retiro do Conselho Geral\, vivido todos os anos. Durante cinco dias\, os conselheiros se reúnem para momentos de oração pessoal\, adoração ao Santíssimo Sacramento e partilha\, a fim de discernir a vontade de Deus para toda a Comunidade e Obra Shalom naquele tempo. O transbordamento da escuta é fruto desse retiro\, que chega a todos os irmãos da Comunidade.
URL:https://centrodeeventos.ce.gov.br/evento/retiro-de-transbordamento-da-escuta-2025/
LOCATION:Pavilhão Oeste
CATEGORIES:Seminários
ATTACH;FMTTYPE=image/png:https://centrodeeventos.ce.gov.br/wp-content/uploads/2025/05/Transbordamento-da-Escuta.png
END:VEVENT
BEGIN:VEVENT
DTSTART;VALUE=DATE:20250621
DTEND;VALUE=DATE:20250623
DTSTAMP:20260420T035606
CREATED:20250527T131427Z
LAST-MODIFIED:20250527T131427Z
UID:1147-1750464000-1750636799@centrodeeventos.ce.gov.br
SUMMARY:Simpósio Arquidiocesano de Pastoral
DESCRIPTION:O Simpósio Arquidiocesano de Pastoral tem como finalidade principal proporcionar um espaço de formação e reflexão sobre a caminhada pastoral da arquidiocese\, em sintonia com o apelo do Papa Francisco para vivermos uma Igreja sinodal e missionária. \nO evento reunirá aproximadamente 3.000 participantes\, provenientes das 150 paróquias\, pastorais\, movimentos\, serviços e organismos de nossa Arquidiocese\, incluindo convidados especiais. \nO Simpósio será um tempo especial de dois dias dedicados à oração\, à comunhão e à partilha. Será uma oportunidade para nos reunirmos como irmãos e irmãs na fé\, fortalecendo nossos vínculos\, aprofundando nossa espiritualidade e renovando nosso compromisso com a missão. Em um ambiente de escuta e diálogo fraterno\, desejamos que cada participante se sinta acolhido e inspirado a seguir caminhando com esperança e alegria no serviço ao Evangelho. \nO Simpósio pretende ser uma expressão viva de uma Arquidiocese sinodal\, que caminha em comunhão\, com a participação ativa de todos — padres\, leigos e leigas\, religiosos e religiosas — e que\, dessa forma\, se prepara com entusiasmo para a missão e a evangelização. Mais do que um evento\, é um momento de fortalecimento do espírito comunitário e de renovação do compromisso de todos com a construção de uma Igreja cada vez mais próxima\, acolhedora e missionária. \nEm caso de dúvidas ou necessidade de mais informações\, entre em contato com o Secretariado Arquidiocesano de Pastoral pelo WhatsApp (85) 3388-8702 e fale com João Augusto.
URL:https://centrodeeventos.ce.gov.br/evento/simposio-arquidiocesano-de-pastoral/
LOCATION:Pavilhão Oeste
CATEGORIES:Seminários
ATTACH;FMTTYPE=image/png:https://centrodeeventos.ce.gov.br/wp-content/uploads/2025/05/SIMPOSIO-ARQUIDIOCESANO.png
END:VEVENT
END:VCALENDAR