BEGIN:VCALENDAR
VERSION:2.0
PRODID:-//Centro de Eventos do Ceará - ECPv6.13.0//NONSGML v1.0//EN
CALSCALE:GREGORIAN
METHOD:PUBLISH
X-WR-CALNAME:Centro de Eventos do Ceará
X-ORIGINAL-URL:https://centrodeeventos.ce.gov.br
X-WR-CALDESC:Eventos para Centro de Eventos do Ceará
REFRESH-INTERVAL;VALUE=DURATION:PT1H
X-Robots-Tag:noindex
X-PUBLISHED-TTL:PT1H
BEGIN:VTIMEZONE
TZID:America/Sao_Paulo
BEGIN:STANDARD
TZOFFSETFROM:-0300
TZOFFSETTO:-0300
TZNAME:-03
DTSTART:20250101T000000
END:STANDARD
END:VTIMEZONE
BEGIN:VEVENT
DTSTART;TZID=America/Sao_Paulo:20250523T220000
DTEND;TZID=America/Sao_Paulo:20250524T060000
DTSTAMP:20260422T000248
CREATED:20250430T152729Z
LAST-MODIFIED:20250430T152729Z
UID:724-1748037600-1748066400@centrodeeventos.ce.gov.br
SUMMARY:NOSTALGIA FORTALEZA
DESCRIPTION:Dubdogz apresenta :: Nostalgia Fortaleza\n \nPrepare-se para uma experiência única na festa Nostalgia\, a festa que traz de volta os summer eletrohits inesquecíveis dos anos 2000. No dia 23 de maio\, em Fortaleza\, venha curtir uma noite cheia de energia ao som de Dubdogz e convidados especiais. \nCom uma cenografia e som especial\, o Nostalgia é o evento perfeito para reviver momentos marcantes e criar novas memórias. Garanta já seu ingresso e venha viver a nostalgia dos melhores anos!
URL:https://centrodeeventos.ce.gov.br/evento/nostalgia-fortaleza/
LOCATION:Pavilhão Oeste
CATEGORIES:Shows
ATTACH;FMTTYPE=image/jpeg:https://centrodeeventos.ce.gov.br/wp-content/uploads/2025/04/67d88d2878495-xs.jpg
END:VEVENT
END:VCALENDAR