BEGIN:VCALENDAR
VERSION:2.0
PRODID:-//Centro de Eventos do Ceará - ECPv6.13.0//NONSGML v1.0//EN
CALSCALE:GREGORIAN
METHOD:PUBLISH
X-WR-CALNAME:Centro de Eventos do Ceará
X-ORIGINAL-URL:https://centrodeeventos.ce.gov.br
X-WR-CALDESC:Eventos para Centro de Eventos do Ceará
REFRESH-INTERVAL;VALUE=DURATION:PT1H
X-Robots-Tag:noindex
X-PUBLISHED-TTL:PT1H
BEGIN:VTIMEZONE
TZID:America/Sao_Paulo
BEGIN:STANDARD
TZOFFSETFROM:-0300
TZOFFSETTO:-0300
TZNAME:-03
DTSTART:20250101T000000
END:STANDARD
END:VTIMEZONE
BEGIN:VEVENT
DTSTART;VALUE=DATE:20250614
DTEND;VALUE=DATE:20250615
DTSTAMP:20260421T222409
CREATED:20250512T165530Z
LAST-MODIFIED:20250512T165530Z
UID:1043-1749859200-1749945599@centrodeeventos.ce.gov.br
SUMMARY:FESTA DE SÃO JOÃO CASA DA CRIANÇA
DESCRIPTION:
URL:https://centrodeeventos.ce.gov.br/evento/festa-de-sao-joao-casa-da-crianca/
LOCATION:Pavilhão Oeste
CATEGORIES:Shows
END:VEVENT
END:VCALENDAR