BEGIN:VCALENDAR
VERSION:2.0
PRODID:-//Centro de Eventos do Ceará - ECPv6.13.0//NONSGML v1.0//EN
CALSCALE:GREGORIAN
METHOD:PUBLISH
X-WR-CALNAME:Centro de Eventos do Ceará
X-ORIGINAL-URL:https://centrodeeventos.ce.gov.br
X-WR-CALDESC:Eventos para Centro de Eventos do Ceará
REFRESH-INTERVAL;VALUE=DURATION:PT1H
X-Robots-Tag:noindex
X-PUBLISHED-TTL:PT1H
BEGIN:VTIMEZONE
TZID:America/Sao_Paulo
BEGIN:STANDARD
TZOFFSETFROM:-0300
TZOFFSETTO:-0300
TZNAME:-03
DTSTART:20250101T000000
END:STANDARD
END:VTIMEZONE
BEGIN:VEVENT
DTSTART;VALUE=DATE:20250819
DTEND;VALUE=DATE:20250823
DTSTAMP:20260421T185607
CREATED:20250528T174536Z
LAST-MODIFIED:20250528T174536Z
UID:1242-1755561600-1755907199@centrodeeventos.ce.gov.br
SUMMARY:EXPOCONSTRUIR
DESCRIPTION:Sobre a expoconstruir\n\n\n\n\n\n\n\n\n\n\n\n\n\n\n\nApós o grande sucesso da 6ª edição da  EXPOCONSTRUIR Nordeste 2024\, o nosso próximo encontro será realizado de 19 a 22 de agosto de 2025 novamente no Centro de Eventos do Ceará\, entrando definitivamente no calendário anual das principais feiras regionais do pais\, reunindo indústrias expositoras de todo Brasil para atender e fazer negócios junto aos lojistas\, atacadistas\, construtores e profissionais de toda a cadeia produtiva da construção do Norte e Nordeste. \nA Feira\, que tem o apoio oficial da Acomac Ceará e do SINDUSCON Ceará\, terá uma dinâmica diferenciada de funcionamento\, com demonstração in loco da aplicação de novos materiais e tecnologias.
URL:https://centrodeeventos.ce.gov.br/evento/expoconstruir/
LOCATION:Pavilhão Oeste
CATEGORIES:Feiras e Exposições
ATTACH;FMTTYPE=image/png:https://centrodeeventos.ce.gov.br/wp-content/uploads/2025/05/images-5.png
END:VEVENT
BEGIN:VEVENT
DTSTART;VALUE=DATE:20250822
DTEND;VALUE=DATE:20250825
DTSTAMP:20260421T185607
CREATED:20250528T175659Z
LAST-MODIFIED:20250528T175659Z
UID:1240-1755820800-1756079999@centrodeeventos.ce.gov.br
SUMMARY:CONNECT FIT EXPERIENCE
DESCRIPTION:VOCÊ ESTÁ PRONTO PRA VIVER ISSO?\n\n\n\n\nImagine estar no meio de 15 mil pessoas que vivem o mesmo lifestyle que você:  gente que treina pesado\, ama um desafio\, respeita quem vive o corre e não abre mão da alta performance. \nA Connect Fit é o ponto de encontro de praticantes de atividades físicas\, atletas\, marcas\, influenciadores\, lojistas e profissionais do setor. \nTodo mundo num mesmo lugar\, respirando treino\, suplementação e evolução. \nMais do que uma feira\, a Connect Fit é o ponto de encontro de quem leva o fitness a sério — como carreira\, negócio\, propósito e estilo de vida. \nUm ambiente pulsante\, onde cada conversa pode virar uma parceria e cada palestra pode virar um salto na sua jornada profissional.
URL:https://centrodeeventos.ce.gov.br/evento/connect-fit-experience/
LOCATION:Pavilhão Leste
CATEGORIES:Feiras e Exposições
ATTACH;FMTTYPE=image/webp:https://centrodeeventos.ce.gov.br/wp-content/uploads/2025/05/Camada-2-copiar-2-1-909x1024-1.webp
END:VEVENT
BEGIN:VEVENT
DTSTART;VALUE=DATE:20250829
DTEND;VALUE=DATE:20250830
DTSTAMP:20260421T185607
CREATED:20250528T180108Z
LAST-MODIFIED:20250731T153532Z
UID:1239-1756425600-1756511999@centrodeeventos.ce.gov.br
SUMMARY:MISS BRASIL 2025
DESCRIPTION:No dia 29 de agosto\, Fortaleza será palco do maior concurso de beleza do País: o Miss Brasil 2025. \nDiretamente do Centro de Eventos do Ceará\, as mulheres mais incríveis do Brasil disputarão uma coroa\, um título e uma experiência para toda uma vida. \nVenha conferir um grandioso espetáculo que irá eleger a nossa representante no concurso internacional Miss Terra. Ingressos à venda em stingresse.com.br. \n19h30 –  Abertura Área Red Carpet\n21h – Abertura Área Palco\n22h30 – Início do Miss Brasil 2025
URL:https://centrodeeventos.ce.gov.br/evento/miss-brasil-2025/
LOCATION:Pavilhão Oeste
ATTACH;FMTTYPE=image/jpeg:https://centrodeeventos.ce.gov.br/wp-content/uploads/2025/05/Banner-Centro-de-Eventos-MB2525-1.jpg
END:VEVENT
BEGIN:VEVENT
DTSTART;VALUE=DATE:20250830
DTEND;VALUE=DATE:20250831
DTSTAMP:20260421T185607
CREATED:20250707T123122Z
LAST-MODIFIED:20250827T201147Z
UID:1589-1756512000-1756598399@centrodeeventos.ce.gov.br
SUMMARY:BAILE DO RUBI - OAB
DESCRIPTION:
URL:https://centrodeeventos.ce.gov.br/evento/baile-do-rubi-oab/
LOCATION:Pavilhão Oeste
CATEGORIES:Eventos corporativos
ATTACH;FMTTYPE=image/jpeg:https://centrodeeventos.ce.gov.br/wp-content/uploads/2025/07/BANNER-500X400-PX-FESTA-DO-RUBI.jpg
END:VEVENT
BEGIN:VEVENT
DTSTART;VALUE=DATE:20250903
DTEND;VALUE=DATE:20250906
DTSTAMP:20260421T185607
CREATED:20250528T184004Z
LAST-MODIFIED:20250528T184004Z
UID:1237-1756857600-1757116799@centrodeeventos.ce.gov.br
SUMMARY:SIMPÓSIO INTERNACIONAL DE CONFIABILIDADE
DESCRIPTION:O Evento\n\n\n\n\nO Simpósio Internacional de Confiabilidade reúne\, anualmente\, diversos profissionais\, para debater como a Engenharia da Confiabilidade é fundamental para atingir os resultados na gestão de ativos\, permitindo que as empresas alcancem novos patamares de eficiência operacional.\nO evento é composto por apresentações de cases práticos da aplicação da Engenharia da Confiabilidade em iniciativas para aumento da disponibilidade\, produtividade e rentabilidade das empresas. Além da abordagem prática o evento também traz os conceitos de confiabilidade e sua interface com a tecnologia.\nA programação\, que intercala palestras e painéis técnicos\, com intervalos para coffee breaks e coquetel\, cria um ótimo espaço para relacionamento\, possibilitando a interação entre os participantes e palestrantes do SIC. Esse formato resulta em um grande intercâmbio de conhecimento entre profissionais de grandes empresas do mercado.
URL:https://centrodeeventos.ce.gov.br/evento/simposio-internacional-de-confiabilidade/
LOCATION:Pavilhão Oeste
CATEGORIES:Feiras e Exposições
ATTACH;FMTTYPE=image/jpeg:https://centrodeeventos.ce.gov.br/wp-content/uploads/2025/05/images-15.jpg
END:VEVENT
BEGIN:VEVENT
DTSTART;VALUE=DATE:20250905
DTEND;VALUE=DATE:20250908
DTSTAMP:20260421T185607
CREATED:20250901T144900Z
LAST-MODIFIED:20250902T171933Z
UID:1645-1757030400-1757289599@centrodeeventos.ce.gov.br
SUMMARY:Imersão Método EVO Impacto
DESCRIPTION:
URL:https://centrodeeventos.ce.gov.br/evento/imersao-metodo-evo-impacto/
LOCATION:Pavilhão Leste
CATEGORIES:Seminários
ATTACH;FMTTYPE=image/png:https://centrodeeventos.ce.gov.br/wp-content/uploads/2025/09/Banner-500x400-Metodo-EVO-.png
END:VEVENT
BEGIN:VEVENT
DTSTART;TZID=America/Sao_Paulo:20250906T203000
DTEND;TZID=America/Sao_Paulo:20250906T233000
DTSTAMP:20260421T185607
CREATED:20250528T183204Z
LAST-MODIFIED:20250611T141851Z
UID:1236-1757190600-1757201400@centrodeeventos.ce.gov.br
SUMMARY:SAMBA 90 GRAUS
DESCRIPTION:Samba 90 Graus: turnê especial que uniu Chrigor\, Netinho de Paula e Marcio Art\n\n\n\n\nEste projeto reúne três dos maiores expoentes do pagode dos anos 90\, Chrigor\, Netinho de Paula e Marcio Art\, para uma celebração monumental de suas carreiras que já somam mais de 30 anos de sucesso. O Samba 90 Graus é uma iniciativa criada pelos próprios artistas\, que já passou por várias cidades do Brasil\, conquistando fãs de todas as idades com um repertório que inclui os maiores sucessos de seus grupos originais. No show\, não faltarão clássicos que marcaram gerações\, como “Temporal”\, “Cohab City”\, “Pimpolho”\, “Utopia”\, “Beijo Geladinho”\, “Telegrama”\, e “Me Apaixonei pela Pessoa Errada”.
URL:https://centrodeeventos.ce.gov.br/evento/samba-90-graus/
LOCATION:Pavilhão Leste
CATEGORIES:Shows
ATTACH;FMTTYPE=image/jpeg:https://centrodeeventos.ce.gov.br/wp-content/uploads/2025/05/capa-site-3-9-e1748457117215.jpg
END:VEVENT
BEGIN:VEVENT
DTSTART;VALUE=DATE:20250907
DTEND;VALUE=DATE:20250908
DTSTAMP:20260421T185607
CREATED:20250723T173208Z
LAST-MODIFIED:20250731T132653Z
UID:1613-1757203200-1757289599@centrodeeventos.ce.gov.br
SUMMARY:MEGA HELP
DESCRIPTION:
URL:https://centrodeeventos.ce.gov.br/evento/mega-help/
LOCATION:Pavilhão Leste
CATEGORIES:Congresso
ATTACH;FMTTYPE=image/jpeg:https://centrodeeventos.ce.gov.br/wp-content/uploads/2025/07/WhatsApp-Image-2025-07-31-at-09.24.47.jpeg
END:VEVENT
BEGIN:VEVENT
DTSTART;VALUE=DATE:20250909
DTEND;VALUE=DATE:20250911
DTSTAMP:20260421T185607
CREATED:20250707T123521Z
LAST-MODIFIED:20250707T123521Z
UID:1591-1757376000-1757548799@centrodeeventos.ce.gov.br
SUMMARY:SEMINÁRIO DOCENTES
DESCRIPTION:
URL:https://centrodeeventos.ce.gov.br/evento/seminario-docentes/
LOCATION:Pavilhão Leste
CATEGORIES:Eventos Governamentais,Seminários
END:VEVENT
BEGIN:VEVENT
DTSTART;VALUE=DATE:20250909
DTEND;VALUE=DATE:20250915
DTSTAMP:20260421T185607
CREATED:20250528T182434Z
LAST-MODIFIED:20250529T141518Z
UID:1235-1757376000-1757894399@centrodeeventos.ce.gov.br
SUMMARY:FENACCE
DESCRIPTION:A Maior Feira de Artesanato do Brasil!\n\n\n\n\nA FENACCE é reconhecida como líder no cenário do artesanato nacional. Esta renomada feira destaca-se por reunir artesãos talentosos e produtos únicos que representam a riqueza cultural e criativa do povo brasileiro.\nAo participar da FENACCE\, os visitantes e expositores têm a oportunidade de fazer parte de uma rede de negócios sustentável e internacional\, contribuindo para a promoção e valorização do artesanato brasileiro.
URL:https://centrodeeventos.ce.gov.br/evento/fenacce/
LOCATION:Pavilhão Oeste
CATEGORIES:Feiras e Exposições
ATTACH;FMTTYPE=image/png:https://centrodeeventos.ce.gov.br/wp-content/uploads/2025/05/6-e1748456667916.png
END:VEVENT
BEGIN:VEVENT
DTSTART;VALUE=DATE:20250910
DTEND;VALUE=DATE:20250911
DTSTAMP:20260421T185607
CREATED:20250723T173120Z
LAST-MODIFIED:20250812T195219Z
UID:1610-1757462400-1757548799@centrodeeventos.ce.gov.br
SUMMARY:COP 30
DESCRIPTION:
URL:https://centrodeeventos.ce.gov.br/evento/cop-30/
LOCATION:Pavilhão Oeste
CATEGORIES:Eventos Governamentais
END:VEVENT
BEGIN:VEVENT
DTSTART;VALUE=DATE:20250912
DTEND;VALUE=DATE:20250913
DTSTAMP:20260421T185607
CREATED:20250901T145026Z
LAST-MODIFIED:20250901T145026Z
UID:1647-1757635200-1757721599@centrodeeventos.ce.gov.br
SUMMARY:CAN NOT
DESCRIPTION:
URL:https://centrodeeventos.ce.gov.br/evento/can-not/
LOCATION:Pavilhão Leste
CATEGORIES:Shows
END:VEVENT
BEGIN:VEVENT
DTSTART;VALUE=DATE:20250912
DTEND;VALUE=DATE:20250915
DTSTAMP:20260421T185607
CREATED:20250528T181032Z
LAST-MODIFIED:20250812T144926Z
UID:1234-1757635200-1757894399@centrodeeventos.ce.gov.br
SUMMARY:15º CONGRESSO INTERNACIONAL DE FISIOTERAPIA
DESCRIPTION:15º Congresso Internacional de Fisioterapia: o maior encontro de fisioterapeutas da América Latina \nO 15° Congresso Internacional de Fisioterapia (15° CIF)\, promovido pela Sociedade Brasileira de Fisioterapia (SBF)\, acontecerá de 11 a 14 de setembro de 2025\, no Centro de Eventos do Ceará\, em Fortaleza. Reconhecido como um dos maiores encontros da área no mundo\, o CIF reúne milhares de profissionais e estudantes em quatro dias de intensa imersão prática e científica. \nNeste ano\, a programação contará com mais de 200 horas de atividades simultâneas\, distribuídas entre palestras\, mesas-redondas e debates\, além de 28 workshops práticos\, conduzidos por especialistas que vivenciam no dia a dia os conteúdos que apresentam. Todas as especialidades reconhecidas da Fisioterapia no Brasil estarão contempladas\, garantindo atualização abrangente e de alto nível. \nAlém da programação científica\, o evento abrirá espaço para a apresentação de temas livres\, estimulando a produção e a disseminação do conhecimento científico\, além da Feira de Exposição\, na qual empresas e instituições do setor apresentarão inovações\, tecnologias e soluções para a prática profissional. \nTambém serão destaques neste ano histórico o Fórum Educacional da SBF\, um espaço voltado a docentes e profissionais da área acadêmica\, com debates sobre práticas pedagógicas\, metodologias inovadoras e o uso da tecnologia na educação em Fisioterapia; e os meetings temáticos\, turnos dedicados a uma única especialidade da Fisioterapia\, com cerca de cinco a seis palestrantes que abordam o estado da arte da área. Os temas deste ano serão: Pediatria e Neonatologia; Fisioterapia do Trabalho; Empreendedorismo na Fisioterapia; e Neurologia. \nFortaleza\, com sua hospitalidade\, cultura vibrante e belezas naturais\, será o cenário perfeito para receber participantes de todo o país e do exterior. No Centro de Eventos do Ceará\, um dos mais modernos e bem estruturados espaços do Brasil\, o 15° CIF oferecerá a infraestrutura ideal para proporcionar conforto\, acessibilidade e experiências memoráveis a todos os presentes. \nO 15° Congresso Internacional de Fisioterapia é mais do que um evento: é um marco na trajetória profissional de quem participa\, um espaço de conexão\, aprendizado e inspiração para impulsionar a Fisioterapia no Brasil e no mundo. \n\n\n\nhttps://sbf.org.br/15cif/lp/ \nhttps://www.instagram.com/congressointerdefisioterapia/
URL:https://centrodeeventos.ce.gov.br/evento/congresso-internacional-de-fisioterapia/
LOCATION:Pavilhão Oeste
CATEGORIES:Congresso
ATTACH;FMTTYPE=image/jpeg:https://centrodeeventos.ce.gov.br/wp-content/uploads/2025/05/d28f7ae7d433a8121199e8b9e48c790e-2.jpg
END:VEVENT
BEGIN:VEVENT
DTSTART;VALUE=DATE:20250912
DTEND;VALUE=DATE:20250915
DTSTAMP:20260421T185607
CREATED:20250827T121616Z
LAST-MODIFIED:20250827T121758Z
UID:1641-1757635200-1757894399@centrodeeventos.ce.gov.br
SUMMARY:CONGRESSO DE FISIOTERAPIA
DESCRIPTION:
URL:https://centrodeeventos.ce.gov.br/evento/congresso-de-fisioterapia/
LOCATION:Pavilhão Oeste
CATEGORIES:Congresso
END:VEVENT
BEGIN:VEVENT
DTSTART;VALUE=DATE:20250914
DTEND;VALUE=DATE:20250915
DTSTAMP:20260421T185607
CREATED:20250812T145932Z
LAST-MODIFIED:20250812T145932Z
UID:1630-1757808000-1757894399@centrodeeventos.ce.gov.br
SUMMARY:CONFERÊNCIA DA IGREJA DE JESUS CRISTO DOS SANTOS DOS ÚLTIMOS DIAS
DESCRIPTION:
URL:https://centrodeeventos.ce.gov.br/evento/conferencia-da-igreja-de-jesus-cristo-dos-santos-dos-ultimos-dias/
LOCATION:Pavilhão Leste
CATEGORIES:Conferência
END:VEVENT
BEGIN:VEVENT
DTSTART;VALUE=DATE:20250915
DTEND;VALUE=DATE:20250916
DTSTAMP:20260421T185607
CREATED:20250901T145118Z
LAST-MODIFIED:20250902T193621Z
UID:1650-1757894400-1757980799@centrodeeventos.ce.gov.br
SUMMARY:ESCOLA NOTA 10
DESCRIPTION:
URL:https://centrodeeventos.ce.gov.br/evento/escola-nota-10/
LOCATION:Pavilhão Leste
CATEGORIES:Eventos Governamentais
END:VEVENT
BEGIN:VEVENT
DTSTART;VALUE=DATE:20250915
DTEND;VALUE=DATE:20250920
DTSTAMP:20260421T185607
CREATED:20250528T201619Z
LAST-MODIFIED:20250528T201704Z
UID:1355-1757894400-1758326399@centrodeeventos.ce.gov.br
SUMMARY:CID - CONFERÊNCIA INTERNACIONAL DO CLIMA SEMIÁRIDO
DESCRIPTION:O Evento\n\n\n\n\nO evento\, organizado pelo Governo do Ceará\, em parceria com o MCTI (Ministério da Ciência\, Tecnologia e Inovação e o CGEE (Centro de Gestão e Estudos Estratégicos)\, será a terceira edição da ICID\, com datas confirmadas entre 15 e 19 de setembro de 2025. O evento será realizado no Centro de Eventos do Ceará
URL:https://centrodeeventos.ce.gov.br/evento/cid-conferencia-internacional-do-clima-semiarido/
LOCATION:Pavilhão Leste
END:VEVENT
BEGIN:VEVENT
DTSTART;VALUE=DATE:20250918
DTEND;VALUE=DATE:20250920
DTSTAMP:20260421T185607
CREATED:20250529T114943Z
LAST-MODIFIED:20250529T115016Z
UID:1358-1758153600-1758326399@centrodeeventos.ce.gov.br
SUMMARY:COALIZÃO GLOBAL PARA ALIMENTAÇÃO ESCOLAR
DESCRIPTION:O Evento\n\n\n\nA Coalizão Global para Alimentação Escolar é uma iniciativa internacional que visa garantir que todas as crianças tenham acesso a refeições escolares nutritivas e saudáveis até 2030. O Brasil é copresidente da coalizão\, juntamente com a França e a Finlândia. A Coalizão foi criada em 2021\, durante a Cúpula de Sistemas Alimentares das Nações Unidas\, e reúne governos\, organizações da sociedade civil\, instituições de pesquisa e fundações filantrópica.
URL:https://centrodeeventos.ce.gov.br/evento/coalizao-global-para-alimentacao-escolar/
LOCATION:Pavilhão Oeste
CATEGORIES:Eventos Governamentais
END:VEVENT
BEGIN:VEVENT
DTSTART;VALUE=DATE:20250919
DTEND;VALUE=DATE:20250920
DTSTAMP:20260421T185607
CREATED:20250723T173247Z
LAST-MODIFIED:20250723T173247Z
UID:1616-1758240000-1758326399@centrodeeventos.ce.gov.br
SUMMARY:CONDO EXPERT CEARÁ 2025
DESCRIPTION:
URL:https://centrodeeventos.ce.gov.br/evento/condo-expert-ceara-2025/
LOCATION:Pavilhão Oeste
CATEGORIES:Congresso
END:VEVENT
BEGIN:VEVENT
DTSTART;VALUE=DATE:20250923
DTEND;VALUE=DATE:20250926
DTSTAMP:20260421T185607
CREATED:20250529T121108Z
LAST-MODIFIED:20250529T141437Z
UID:1389-1758585600-1758844799@centrodeeventos.ce.gov.br
SUMMARY:MAQUINTEX/SIGNS NORDESTE/PACK&GRAPH 2025
DESCRIPTION:Maquintex\n\n\n\n\nFeira de Máquinas\, Equipamentos\, Serviços e Química para a Indústria Têxtil e de Confecção\nA edição 2025 é o ponto de diálogo com estes temas\, por isso é importante o apoio e a participação da sua empresa para apresentarmos tudo o que há de melhor para a transformação da cadeia produtiva da moda cearense.
URL:https://centrodeeventos.ce.gov.br/evento/maquintex-signs-nordeste-packgraph-2025/
LOCATION:Pavilhão Oeste
CATEGORIES:Feiras e Exposições
ATTACH;FMTTYPE=image/jpeg:https://centrodeeventos.ce.gov.br/wp-content/uploads/2025/05/skg22tmvu0e.jpg
END:VEVENT
BEGIN:VEVENT
DTSTART;VALUE=DATE:20250923
DTEND;VALUE=DATE:20250925
DTSTAMP:20260421T185607
CREATED:20250812T150019Z
LAST-MODIFIED:20250812T150019Z
UID:1633-1758585600-1758758399@centrodeeventos.ce.gov.br
SUMMARY:2º ENCONTRO ESTADUAL DE INTEGRAÇÃO EM SAÚDE PRISIONAL PERFIL\, VUNERABILIDADES E CAMINHOS PARA A EQUIDADE
DESCRIPTION:
URL:https://centrodeeventos.ce.gov.br/evento/2o-encontro-estadual-de-integracao-em-saude-prisional-perfil-vunerabilidades-e-caminhos-para-a-equidade/
LOCATION:Pavilhão Oeste
CATEGORIES:Congresso
END:VEVENT
BEGIN:VEVENT
DTSTART;VALUE=DATE:20250924
DTEND;VALUE=DATE:20250926
DTSTAMP:20260421T185607
CREATED:20250529T121731Z
LAST-MODIFIED:20250923T134038Z
UID:1388-1758672000-1758844799@centrodeeventos.ce.gov.br
SUMMARY:PROENERGIA 2025
DESCRIPTION:
URL:https://centrodeeventos.ce.gov.br/evento/proenergia-2025/
LOCATION:Pavilhão Oeste
CATEGORIES:Feiras e Exposições
END:VEVENT
BEGIN:VEVENT
DTSTART;VALUE=DATE:20250926
DTEND;VALUE=DATE:20250929
DTSTAMP:20260421T185607
CREATED:20250529T122548Z
LAST-MODIFIED:20250529T141401Z
UID:1387-1758844800-1759103999@centrodeeventos.ce.gov.br
SUMMARY:FESTA DE SÃO MIGUEL
DESCRIPTION:Descrição do evento\n\n\n\n\n\n\n\n\n\n\n\nNos dias 26\, 27 e 28 de setembro\, no Centro de Eventos do Ceará\, em Fortaleza\, vamos nos reunir para celebrar as vitórias que Deus tem realizado em nossas vidas. \nEste é o chamado para você\, que faz parte da família do Exército de São Miguel\, e para todos que desejam viver três dias inesquecíveis de fé\, oração e graças abundantes. \nSe você deseja viver essa experiência única junto com toda a família do Exército de São Miguel\, não espere o último momento.
URL:https://centrodeeventos.ce.gov.br/evento/festa-de-sao-miguel/
LOCATION:Oeste e Leste
CATEGORIES:Shows
ATTACH;FMTTYPE=image/jpeg:https://centrodeeventos.ce.gov.br/wp-content/uploads/2025/05/680e1e5e4f64c-e1748521530216.jpg
END:VEVENT
BEGIN:VEVENT
DTSTART;VALUE=DATE:20250929
DTEND;VALUE=DATE:20251003
DTSTAMP:20260421T185607
CREATED:20250901T145225Z
LAST-MODIFIED:20250901T145225Z
UID:1652-1759104000-1759449599@centrodeeventos.ce.gov.br
SUMMARY:ENCONTRO NACIONAL DE GERENCIAMENTO COSTEIRO
DESCRIPTION:
URL:https://centrodeeventos.ce.gov.br/evento/encontro-nacional-de-gerenciamento-costeiro/
LOCATION:Pavilhão Oeste
CATEGORIES:Congresso
END:VEVENT
BEGIN:VEVENT
DTSTART;VALUE=DATE:20251008
DTEND;VALUE=DATE:20251011
DTSTAMP:20260421T185607
CREATED:20250529T140320Z
LAST-MODIFIED:20250529T140829Z
UID:1415-1759881600-1760140799@centrodeeventos.ce.gov.br
SUMMARY:SIARÁ TECH SUMMIT 2025
DESCRIPTION:
URL:https://centrodeeventos.ce.gov.br/evento/siara-tech-summit-2025/
LOCATION:Pavilhão Oeste
CATEGORIES:Feiras e Exposições
END:VEVENT
BEGIN:VEVENT
DTSTART;VALUE=DATE:20251008
DTEND;VALUE=DATE:20251011
DTSTAMP:20260421T185607
CREATED:20250529T140600Z
LAST-MODIFIED:20250529T140600Z
UID:1414-1759881600-1760140799@centrodeeventos.ce.gov.br
SUMMARY:FEIRA DO EMPREENDEDOR
DESCRIPTION:
URL:https://centrodeeventos.ce.gov.br/evento/feira-do-empreendedor/
LOCATION:Pavilhão Leste
CATEGORIES:Feiras e Exposições
END:VEVENT
BEGIN:VEVENT
DTSTART;VALUE=DATE:20251009
DTEND;VALUE=DATE:20251010
DTSTAMP:20260421T185607
CREATED:20250901T172503Z
LAST-MODIFIED:20250922T115422Z
UID:1656-1759968000-1760054399@centrodeeventos.ce.gov.br
SUMMARY:SINDIPOPOSTOS
DESCRIPTION:
URL:https://centrodeeventos.ce.gov.br/evento/sindipopostos/
LOCATION:Pavilhão Oeste
CATEGORIES:Feiras e Exposições
END:VEVENT
BEGIN:VEVENT
DTSTART;VALUE=DATE:20251010
DTEND;VALUE=DATE:20251012
DTSTAMP:20260421T185607
CREATED:20250707T123814Z
LAST-MODIFIED:20250707T123814Z
UID:1593-1760054400-1760227199@centrodeeventos.ce.gov.br
SUMMARY:OUTUBRO MÉDICO
DESCRIPTION:
URL:https://centrodeeventos.ce.gov.br/evento/outubro-medico/
LOCATION:Pavilhão Leste
CATEGORIES:Eventos corporativos
END:VEVENT
BEGIN:VEVENT
DTSTART;VALUE=DATE:20251015
DTEND;VALUE=DATE:20251019
DTSTAMP:20260421T185607
CREATED:20250529T142126Z
LAST-MODIFIED:20250925T124036Z
UID:1413-1760486400-1760831999@centrodeeventos.ce.gov.br
SUMMARY:XIX CONGRESSO BRASILEIRO DE TRANSPLANTES DE ÓRGÃOS
DESCRIPTION:Mensagem da Presidente\n\n\n\n\nCongresso 2025 – Desafios e Novas Fronteiras\n \nHá 21 anos\, Fortaleza sediou\, pela primeira vez\, o congresso da Associação Brasileira de Transplantes de Órgãos (ABTO)\, em sua 8ª edição. À época\, eu ainda não transitava no meio dos transplantes\, mas os rumores do sucesso do evento marcaram a história. É\, portanto\, imbuída de uma grande responsabilidade em manter esse legado\, que tenho a honra e o entusiasmo de convidá-los para o Congresso Brasileiro de Transplantes\, que volta para Fortaleza\, a Terra da Luz\, entre os dias 15 a 18 de outubro de 2025\, agora em sua 19ª edição. Junto com ele\, receberemos os colegas portugueses para o XXIII Congresso Luso-Brasileiro de Transplantes\, os grandes parceiros da enfermagem para o XVIII Encontro de Enfermagem em Transplantes e os profissionais que atuam na área de imunologia para o Fórum de Histocompatibilidade da Associação Brasileira de Histocompatibilidade e Imunogenética (ABHI). \nCom o tema “Desafios e Novas Fronteiras”\, este congresso se propõe a explorar as complexidades e avanços no campo dos transplantes\, atraindo colegas que atuam nesta área em todo o país para discussões profundas e profícuas\, e oferecer novas perspectivas para a prática clínica e para a pesquisa. Além disso\, nos empenharemos em elaborar uma grade científica que estimule a participação de novas gerações de médicos especialistas e residentes\, membros de ligas acadêmicas e alunos de graduação interessados no tema\, incentivando a formação de novos profissionais e lideranças que perpetuem o exitoso programa de transplantes do país. \nMantendo a tradição de valorizar as produções científicas\, o congresso dedicará amplo espaço para a apresentação de temas livres\, promovendo a divulgação da pesquisa básica\, clínica e translacional na área de doação e transplantes desenvolvidas por centros e universidades. \nReconhecida internacionalmente por suas belas praias e paisagens\, clima ensolarado e pela cordial e calorosa recepção aos visitantes\, Fortaleza está de braços abertos para recebê-los!
URL:https://centrodeeventos.ce.gov.br/evento/xix-congresso-brasileiro-de-transplantes-de-orgaos/
LOCATION:Pavilhão Oeste
CATEGORIES:Feiras e Exposições
END:VEVENT
BEGIN:VEVENT
DTSTART;VALUE=DATE:20251015
DTEND;VALUE=DATE:20251016
DTSTAMP:20260421T185607
CREATED:20250929T125107Z
LAST-MODIFIED:20251007T130739Z
UID:1700-1760486400-1760572799@centrodeeventos.ce.gov.br
SUMMARY:CEARÁ SEM FOME
DESCRIPTION:
URL:https://centrodeeventos.ce.gov.br/evento/ceara-sem-fome/
LOCATION:Pavilhão Oeste
CATEGORIES:Eventos Governamentais
END:VEVENT
END:VCALENDAR