BEGIN:VCALENDAR
VERSION:2.0
PRODID:-//Centro de Eventos do Ceará - ECPv6.13.0//NONSGML v1.0//EN
CALSCALE:GREGORIAN
METHOD:PUBLISH
X-WR-CALNAME:Centro de Eventos do Ceará
X-ORIGINAL-URL:https://centrodeeventos.ce.gov.br
X-WR-CALDESC:Eventos para Centro de Eventos do Ceará
REFRESH-INTERVAL;VALUE=DURATION:PT1H
X-Robots-Tag:noindex
X-PUBLISHED-TTL:PT1H
BEGIN:VTIMEZONE
TZID:America/Sao_Paulo
BEGIN:STANDARD
TZOFFSETFROM:-0300
TZOFFSETTO:-0300
TZNAME:-03
DTSTART:20260101T000000
END:STANDARD
END:VTIMEZONE
BEGIN:VEVENT
DTSTART;VALUE=DATE:20260127
DTEND;VALUE=DATE:20260202
DTSTAMP:20260419T140206
CREATED:20260116T174941Z
LAST-MODIFIED:20260116T174941Z
UID:1768-1769472000-1769990399@centrodeeventos.ce.gov.br
SUMMARY:FORMATURA PROMOVE
DESCRIPTION:
URL:https://centrodeeventos.ce.gov.br/evento/formatura-promove-2/
LOCATION:Pavilhão Leste
CATEGORIES:Formaturas
END:VEVENT
BEGIN:VEVENT
DTSTART;VALUE=DATE:20260130
DTEND;VALUE=DATE:20260202
DTSTAMP:20260419T140206
CREATED:20260116T175213Z
LAST-MODIFIED:20260116T175213Z
UID:1770-1769731200-1769990399@centrodeeventos.ce.gov.br
SUMMARY:SANA
DESCRIPTION:
URL:https://centrodeeventos.ce.gov.br/evento/sana/
LOCATION:Pavilhão Oeste
CATEGORIES:Conferência
ATTACH;FMTTYPE=image/webp:https://centrodeeventos.ce.gov.br/wp-content/uploads/2026/01/31444.webp
END:VEVENT
BEGIN:VEVENT
DTSTART;VALUE=DATE:20260205
DTEND;VALUE=DATE:20260209
DTSTAMP:20260419T140206
CREATED:20260116T175422Z
LAST-MODIFIED:20260116T175547Z
UID:1773-1770249600-1770595199@centrodeeventos.ce.gov.br
SUMMARY:FORMATURA PROMOVE
DESCRIPTION:
URL:https://centrodeeventos.ce.gov.br/evento/formatura-promove-3/
LOCATION:Pavilhão Oeste
CATEGORIES:Formaturas
END:VEVENT
BEGIN:VEVENT
DTSTART;VALUE=DATE:20260206
DTEND;VALUE=DATE:20260208
DTSTAMP:20260419T140206
CREATED:20260126T200607Z
LAST-MODIFIED:20260128T141959Z
UID:1883-1770336000-1770508799@centrodeeventos.ce.gov.br
SUMMARY:ENCONTRO PEDAGÓGICO DA UNIFOR
DESCRIPTION:
URL:https://centrodeeventos.ce.gov.br/evento/encontro-pedagogico-da-unifor/
LOCATION:Pavilhão Oeste
CATEGORIES:Congresso
ATTACH;FMTTYPE=image/png:https://centrodeeventos.ce.gov.br/wp-content/uploads/2026/01/BANNER-DIGITAL-CENTRO-DE-EVENTOS.png
END:VEVENT
BEGIN:VEVENT
DTSTART;VALUE=DATE:20260228
DTEND;VALUE=DATE:20260301
DTSTAMP:20260419T140206
CREATED:20260116T180121Z
LAST-MODIFIED:20260128T174627Z
UID:1776-1772236800-1772323199@centrodeeventos.ce.gov.br
SUMMARY:HYROX FORTALEZA
DESCRIPTION:Presente em mais de 100 cidades dos 5 continentes\, pela primeira vez em Fortaleza\, o HYROX desembarca com sua experiência fitness única. Um desafio que une força\, resistência e estratégia para todos os níveis. \nGaranta sua vaga em https://hyroxbrazil.com/pt-br/event/hyrox-fortaleza/
URL:https://centrodeeventos.ce.gov.br/evento/hyrox-fortaleza/
LOCATION:Pavilhão Leste
CATEGORIES:Feiras e Exposições
ATTACH;FMTTYPE=image/jpeg:https://centrodeeventos.ce.gov.br/wp-content/uploads/2026/01/Banner-HYROX-Fortaleza.jpg
END:VEVENT
BEGIN:VEVENT
DTSTART;VALUE=DATE:20260305
DTEND;VALUE=DATE:20260307
DTSTAMP:20260419T140206
CREATED:20260126T200639Z
LAST-MODIFIED:20260126T200639Z
UID:1885-1772668800-1772841599@centrodeeventos.ce.gov.br
SUMMARY:CONEXÃO CNM IMERSÃO CEARÁ 2026
DESCRIPTION:
URL:https://centrodeeventos.ce.gov.br/evento/conexao-cnm-imersao-ceara-2026/
LOCATION:Pavilhão Leste
CATEGORIES:Congresso
END:VEVENT
BEGIN:VEVENT
DTSTART;VALUE=DATE:20260309
DTEND;VALUE=DATE:20260311
DTSTAMP:20260419T140206
CREATED:20260116T180753Z
LAST-MODIFIED:20260116T180753Z
UID:1778-1773014400-1773187199@centrodeeventos.ce.gov.br
SUMMARY:FEIRA DA INDÚSTRIA
DESCRIPTION:
URL:https://centrodeeventos.ce.gov.br/evento/feira-da-industria/
LOCATION:Oeste e Leste
CATEGORIES:Feiras e Exposições
ATTACH;FMTTYPE=image/jpeg:https://centrodeeventos.ce.gov.br/wp-content/uploads/2026/01/SaveClip.App_551989052_17971697987946139_6952172296060053577_n.jpg
END:VEVENT
BEGIN:VEVENT
DTSTART;VALUE=DATE:20260316
DTEND;VALUE=DATE:20260319
DTSTAMP:20260419T140206
CREATED:20260312T192422Z
LAST-MODIFIED:20260312T192422Z
UID:1941-1773619200-1773878399@centrodeeventos.ce.gov.br
SUMMARY:ENCONTRO ESTADUAL DOS DIRETORES DA ESCOLAS DA REDE PÚBLICA
DESCRIPTION:
URL:https://centrodeeventos.ce.gov.br/evento/encontro-estadual-dos-diretores-da-escolas-da-rede-publica/
LOCATION:Pavilhão Leste
CATEGORIES:Eventos Governamentais
END:VEVENT
BEGIN:VEVENT
DTSTART;VALUE=DATE:20260317
DTEND;VALUE=DATE:20260318
DTSTAMP:20260419T140206
CREATED:20260126T200716Z
LAST-MODIFIED:20260316T173911Z
UID:1889-1773705600-1773791999@centrodeeventos.ce.gov.br
SUMMARY:MULHERES QUE MOVIMENTAM
DESCRIPTION:
URL:https://centrodeeventos.ce.gov.br/evento/mulheres-que-movimentam/
LOCATION:Pavilhão Oeste
CATEGORIES:Congresso
END:VEVENT
BEGIN:VEVENT
DTSTART;VALUE=DATE:20260319
DTEND;VALUE=DATE:20260322
DTSTAMP:20260419T140206
CREATED:20260116T181022Z
LAST-MODIFIED:20260116T181022Z
UID:1781-1773878400-1774137599@centrodeeventos.ce.gov.br
SUMMARY:32º CONGRESSO CNNO 2026
DESCRIPTION:
URL:https://centrodeeventos.ce.gov.br/evento/32o-congresso-cnno-2026/
LOCATION:Pavilhão Leste
CATEGORIES:Congresso
ATTACH;FMTTYPE=image/png:https://centrodeeventos.ce.gov.br/wp-content/uploads/2026/01/Captura-de-tela-2026-01-16-150926.png
END:VEVENT
BEGIN:VEVENT
DTSTART;VALUE=DATE:20260319
DTEND;VALUE=DATE:20260322
DTSTAMP:20260419T140206
CREATED:20260126T200746Z
LAST-MODIFIED:20260126T200746Z
UID:1891-1773878400-1774137599@centrodeeventos.ce.gov.br
SUMMARY:AÇÃO SOCIAL DA SNNO 2026
DESCRIPTION:
URL:https://centrodeeventos.ce.gov.br/evento/acao-social-da-snno-2026/
LOCATION:Pavilhão Leste
CATEGORIES:Congresso
END:VEVENT
BEGIN:VEVENT
DTSTART;VALUE=DATE:20260330
DTEND;VALUE=DATE:20260331
DTSTAMP:20260419T140206
CREATED:20260312T192451Z
LAST-MODIFIED:20260312T192451Z
UID:1943-1774828800-1774915199@centrodeeventos.ce.gov.br
SUMMARY:PRÊMIO NORDESTE - LIDERANÇAS QUE TRANSFORMAM
DESCRIPTION:
URL:https://centrodeeventos.ce.gov.br/evento/premio-nordeste-liderancas-que-transformam/
LOCATION:Pavilhão Leste
CATEGORIES:Eventos corporativos
END:VEVENT
BEGIN:VEVENT
DTSTART;VALUE=DATE:20260408
DTEND;VALUE=DATE:20260412
DTSTAMP:20260419T140206
CREATED:20260312T192624Z
LAST-MODIFIED:20260312T192624Z
UID:1945-1775606400-1775951999@centrodeeventos.ce.gov.br
SUMMARY:ENTREGA DO MATERIAL PARA MARATONA DE FORTALEZA
DESCRIPTION:
URL:https://centrodeeventos.ce.gov.br/evento/entrega-do-material-para-maratona-de-fortaleza/
LOCATION:Pavilhão Oeste
CATEGORIES:Eventos corporativos
END:VEVENT
BEGIN:VEVENT
DTSTART;VALUE=DATE:20260409
DTEND;VALUE=DATE:20260410
DTSTAMP:20260419T140206
CREATED:20260126T200812Z
LAST-MODIFIED:20260126T200812Z
UID:1893-1775692800-1775779199@centrodeeventos.ce.gov.br
SUMMARY:CORTELLANDO - TRILHAS NO SABER E NO PENSAR
DESCRIPTION:
URL:https://centrodeeventos.ce.gov.br/evento/cortellando-trilhas-no-saber-e-no-pensar/
LOCATION:Pavilhão Oeste
CATEGORIES:Seminários
END:VEVENT
BEGIN:VEVENT
DTSTART;VALUE=DATE:20260409
DTEND;VALUE=DATE:20260412
DTSTAMP:20260419T140206
CREATED:20260312T192651Z
LAST-MODIFIED:20260312T192651Z
UID:1947-1775692800-1775951999@centrodeeventos.ce.gov.br
SUMMARY:43º CONGRESSO BRASILEIRO DE GUIAS DE TURISMO
DESCRIPTION:
URL:https://centrodeeventos.ce.gov.br/evento/43o-congresso-brasileiro-de-guias-de-turismo/
LOCATION:Pavilhão Leste
CATEGORIES:Eventos corporativos
END:VEVENT
BEGIN:VEVENT
DTSTART;VALUE=DATE:20260410
DTEND;VALUE=DATE:20260412
DTSTAMP:20260419T140206
CREATED:20260126T200841Z
LAST-MODIFIED:20260126T200841Z
UID:1896-1775779200-1775951999@centrodeeventos.ce.gov.br
SUMMARY:CAPITAL UPGRADE
DESCRIPTION:
URL:https://centrodeeventos.ce.gov.br/evento/capital-upgrade/
LOCATION:Pavilhão Oeste
CATEGORIES:Congresso
END:VEVENT
BEGIN:VEVENT
DTSTART;VALUE=DATE:20260410
DTEND;VALUE=DATE:20260413
DTSTAMP:20260419T140206
CREATED:20260116T181904Z
LAST-MODIFIED:20260312T192715Z
UID:1792-1775779200-1776038399@centrodeeventos.ce.gov.br
SUMMARY:MISERICÓRDIA BRASIL
DESCRIPTION:
URL:https://centrodeeventos.ce.gov.br/evento/misericordia-brasil/
LOCATION:Pavilhão Leste
CATEGORIES:Shows
ATTACH;FMTTYPE=image/webp:https://centrodeeventos.ce.gov.br/wp-content/uploads/2026/01/1_misericordia_brasil_fortaleza-26313302.webp
END:VEVENT
BEGIN:VEVENT
DTSTART;VALUE=DATE:20260411
DTEND;VALUE=DATE:20260412
DTSTAMP:20260419T140206
CREATED:20260312T192750Z
LAST-MODIFIED:20260312T192750Z
UID:1949-1775865600-1775951999@centrodeeventos.ce.gov.br
SUMMARY:ABYSSAL DEEP
DESCRIPTION:
URL:https://centrodeeventos.ce.gov.br/evento/abyssal-deep/
LOCATION:Pavilhão Oeste
CATEGORIES:Shows
END:VEVENT
BEGIN:VEVENT
DTSTART;VALUE=DATE:20260418
DTEND;VALUE=DATE:20260419
DTSTAMP:20260419T140206
CREATED:20260116T182009Z
LAST-MODIFIED:20260406T174440Z
UID:1796-1776470400-1776556799@centrodeeventos.ce.gov.br
SUMMARY:CONGRALAP
DESCRIPTION:
URL:https://centrodeeventos.ce.gov.br/evento/congralap/
LOCATION:Pavilhão Oeste
CATEGORIES:Congresso
END:VEVENT
BEGIN:VEVENT
DTSTART;VALUE=DATE:20260417
DTEND;VALUE=DATE:20260420
DTSTAMP:20260419T140206
CREATED:20260312T192840Z
LAST-MODIFIED:20260312T192840Z
UID:1951-1776384000-1776643199@centrodeeventos.ce.gov.br
SUMMARY:COMBATE DAS MARCAS
DESCRIPTION:
URL:https://centrodeeventos.ce.gov.br/evento/combate-das-marcas-2/
LOCATION:Pavilhão Oeste
CATEGORIES:Feiras e Exposições
END:VEVENT
BEGIN:VEVENT
DTSTART;VALUE=DATE:20260418
DTEND;VALUE=DATE:20260420
DTSTAMP:20260419T140206
CREATED:20260312T193836Z
LAST-MODIFIED:20260312T193836Z
UID:1955-1776470400-1776643199@centrodeeventos.ce.gov.br
SUMMARY:RETIRO DO TRANSBORDAMENTO DA ESCUTA
DESCRIPTION:
URL:https://centrodeeventos.ce.gov.br/evento/retiro-do-transbordamento-da-escuta-2/
LOCATION:Pavilhão Leste
CATEGORIES:Retiros
END:VEVENT
BEGIN:VEVENT
DTSTART;VALUE=DATE:20260418
DTEND;VALUE=DATE:20260422
DTSTAMP:20260419T140206
CREATED:20260312T192930Z
LAST-MODIFIED:20260312T192930Z
UID:1953-1776470400-1776815999@centrodeeventos.ce.gov.br
SUMMARY:COSEMS
DESCRIPTION:
URL:https://centrodeeventos.ce.gov.br/evento/cosems/
LOCATION:Pavilhão Leste
CATEGORIES:Congresso
END:VEVENT
BEGIN:VEVENT
DTSTART;TZID=America/Sao_Paulo:20260418T080000
DTEND;TZID=America/Sao_Paulo:20260418T170000
DTSTAMP:20260419T140206
CREATED:20260116T182335Z
LAST-MODIFIED:20260116T182335Z
UID:1798-1776499200-1776531600@centrodeeventos.ce.gov.br
SUMMARY:CONEXÃO TOTAL
DESCRIPTION:
URL:https://centrodeeventos.ce.gov.br/evento/conexao-total/
LOCATION:Pavilhão Oeste
CATEGORIES:Congresso
END:VEVENT
BEGIN:VEVENT
DTSTART;VALUE=DATE:20260423
DTEND;VALUE=DATE:20260425
DTSTAMP:20260419T140206
CREATED:20260312T193903Z
LAST-MODIFIED:20260312T193903Z
UID:1957-1776902400-1777075199@centrodeeventos.ce.gov.br
SUMMARY:TRANSFORMAR JUNTOS
DESCRIPTION:
URL:https://centrodeeventos.ce.gov.br/evento/transformar-juntos/
LOCATION:Pavilhão Leste
CATEGORIES:Seminários
END:VEVENT
BEGIN:VEVENT
DTSTART;VALUE=DATE:20260425
DTEND;VALUE=DATE:20260426
DTSTAMP:20260419T140206
CREATED:20260116T182426Z
LAST-MODIFIED:20260116T182426Z
UID:1800-1777075200-1777161599@centrodeeventos.ce.gov.br
SUMMARY:RETIRO DAS MULHERES CHEIAS DE GRAÇA
DESCRIPTION:
URL:https://centrodeeventos.ce.gov.br/evento/retiro-das-mulheres-cheias-de-graca/
LOCATION:Pavilhão Oeste
CATEGORIES:Congresso
END:VEVENT
BEGIN:VEVENT
DTSTART;VALUE=DATE:20260425
DTEND;VALUE=DATE:20260426
DTSTAMP:20260419T140206
CREATED:20260406T174822Z
LAST-MODIFIED:20260406T174822Z
UID:1980-1777075200-1777161599@centrodeeventos.ce.gov.br
SUMMARY:Prime Championship
DESCRIPTION:
URL:https://centrodeeventos.ce.gov.br/evento/prime-championship/
LOCATION:Pavilhão Oeste
CATEGORIES:Shows
END:VEVENT
BEGIN:VEVENT
DTSTART;VALUE=DATE:20260426
DTEND;VALUE=DATE:20260427
DTSTAMP:20260419T140206
CREATED:20260116T182505Z
LAST-MODIFIED:20260116T182505Z
UID:1803-1777161600-1777247999@centrodeeventos.ce.gov.br
SUMMARY:4º ENCONTRO DE CASAIS COM CRISTO
DESCRIPTION:
URL:https://centrodeeventos.ce.gov.br/evento/4o-encontro-de-casais-com-cristo/
LOCATION:Pavilhão Leste
CATEGORIES:Conferência
END:VEVENT
BEGIN:VEVENT
DTSTART;VALUE=DATE:20260428
DTEND;VALUE=DATE:20260429
DTSTAMP:20260419T140206
CREATED:20260116T182550Z
LAST-MODIFIED:20260116T182550Z
UID:1806-1777334400-1777420799@centrodeeventos.ce.gov.br
SUMMARY:PALESTRA SOU EXPERIENCE
DESCRIPTION:
URL:https://centrodeeventos.ce.gov.br/evento/palestra-sou-experience/
LOCATION:Pavilhão Oeste
CATEGORIES:Eventos corporativos
END:VEVENT
BEGIN:VEVENT
DTSTART;VALUE=DATE:20260428
DTEND;VALUE=DATE:20260430
DTSTAMP:20260419T140206
CREATED:20260126T200910Z
LAST-MODIFIED:20260318T174937Z
UID:1898-1777334400-1777507199@centrodeeventos.ce.gov.br
SUMMARY:INTERSOLAR SUMMIT BRASIL
DESCRIPTION:O Intersolar Brasil Nordeste reúne especialistas\, empresas e profissionais do setor para discutir tendências\, oportunidades e avanços da energia solar e das tecnologias que impulsionam a transição energética no Brasil. O evento promove conteúdo qualificado\, networking estratégico e conexão entre os principais agentes do mercado. \nInstagram: https://www.instagram.com/intersolarbrasil/\nLinkedIn: https://br.linkedin.com/company/the-smarter-e-south-america\nWebsite: https://www.intersolar-brasil.com/
URL:https://centrodeeventos.ce.gov.br/evento/intersolar-summit-brasil-2/
LOCATION:Pavilhão Oeste
CATEGORIES:Congresso
ATTACH;FMTTYPE=image/jpeg:https://centrodeeventos.ce.gov.br/wp-content/uploads/2026/01/500x400_banner_oficial.jpg
END:VEVENT
BEGIN:VEVENT
DTSTART;VALUE=DATE:20260507
DTEND;VALUE=DATE:20260510
DTSTAMP:20260419T140206
CREATED:20260116T183157Z
LAST-MODIFIED:20260116T183157Z
UID:1814-1778112000-1778371199@centrodeeventos.ce.gov.br
SUMMARY:FUTPRO EXPO
DESCRIPTION:
URL:https://centrodeeventos.ce.gov.br/evento/futpro-expo/
LOCATION:Pavilhão Oeste
CATEGORIES:Feiras e Exposições
END:VEVENT
END:VCALENDAR