BEGIN:VCALENDAR
VERSION:2.0
PRODID:-//Centro de Eventos do Ceará - ECPv6.13.0//NONSGML v1.0//EN
CALSCALE:GREGORIAN
METHOD:PUBLISH
X-WR-CALNAME:Centro de Eventos do Ceará
X-ORIGINAL-URL:https://centrodeeventos.ce.gov.br
X-WR-CALDESC:Eventos para Centro de Eventos do Ceará
REFRESH-INTERVAL;VALUE=DURATION:PT1H
X-Robots-Tag:noindex
X-PUBLISHED-TTL:PT1H
BEGIN:VTIMEZONE
TZID:America/Sao_Paulo
BEGIN:STANDARD
TZOFFSETFROM:-0300
TZOFFSETTO:-0300
TZNAME:-03
DTSTART:20250101T000000
END:STANDARD
END:VTIMEZONE
BEGIN:VEVENT
DTSTART;VALUE=DATE:20250929
DTEND;VALUE=DATE:20251003
DTSTAMP:20260421T121701
CREATED:20250901T145225Z
LAST-MODIFIED:20250901T145225Z
UID:1652-1759104000-1759449599@centrodeeventos.ce.gov.br
SUMMARY:ENCONTRO NACIONAL DE GERENCIAMENTO COSTEIRO
DESCRIPTION:
URL:https://centrodeeventos.ce.gov.br/evento/encontro-nacional-de-gerenciamento-costeiro/
LOCATION:Pavilhão Oeste
CATEGORIES:Congresso
END:VEVENT
BEGIN:VEVENT
DTSTART;VALUE=DATE:20251008
DTEND;VALUE=DATE:20251011
DTSTAMP:20260421T121701
CREATED:20250529T140320Z
LAST-MODIFIED:20250529T140829Z
UID:1415-1759881600-1760140799@centrodeeventos.ce.gov.br
SUMMARY:SIARÁ TECH SUMMIT 2025
DESCRIPTION:
URL:https://centrodeeventos.ce.gov.br/evento/siara-tech-summit-2025/
LOCATION:Pavilhão Oeste
CATEGORIES:Feiras e Exposições
END:VEVENT
BEGIN:VEVENT
DTSTART;VALUE=DATE:20251008
DTEND;VALUE=DATE:20251011
DTSTAMP:20260421T121701
CREATED:20250529T140600Z
LAST-MODIFIED:20250529T140600Z
UID:1414-1759881600-1760140799@centrodeeventos.ce.gov.br
SUMMARY:FEIRA DO EMPREENDEDOR
DESCRIPTION:
URL:https://centrodeeventos.ce.gov.br/evento/feira-do-empreendedor/
LOCATION:Pavilhão Leste
CATEGORIES:Feiras e Exposições
END:VEVENT
BEGIN:VEVENT
DTSTART;VALUE=DATE:20251009
DTEND;VALUE=DATE:20251010
DTSTAMP:20260421T121701
CREATED:20250901T172503Z
LAST-MODIFIED:20250922T115422Z
UID:1656-1759968000-1760054399@centrodeeventos.ce.gov.br
SUMMARY:SINDIPOPOSTOS
DESCRIPTION:
URL:https://centrodeeventos.ce.gov.br/evento/sindipopostos/
LOCATION:Pavilhão Oeste
CATEGORIES:Feiras e Exposições
END:VEVENT
BEGIN:VEVENT
DTSTART;VALUE=DATE:20251010
DTEND;VALUE=DATE:20251012
DTSTAMP:20260421T121701
CREATED:20250707T123814Z
LAST-MODIFIED:20250707T123814Z
UID:1593-1760054400-1760227199@centrodeeventos.ce.gov.br
SUMMARY:OUTUBRO MÉDICO
DESCRIPTION:
URL:https://centrodeeventos.ce.gov.br/evento/outubro-medico/
LOCATION:Pavilhão Leste
CATEGORIES:Eventos corporativos
END:VEVENT
BEGIN:VEVENT
DTSTART;VALUE=DATE:20251015
DTEND;VALUE=DATE:20251019
DTSTAMP:20260421T121701
CREATED:20250529T142126Z
LAST-MODIFIED:20250925T124036Z
UID:1413-1760486400-1760831999@centrodeeventos.ce.gov.br
SUMMARY:XIX CONGRESSO BRASILEIRO DE TRANSPLANTES DE ÓRGÃOS
DESCRIPTION:Mensagem da Presidente\n\n\n\n\nCongresso 2025 – Desafios e Novas Fronteiras\n \nHá 21 anos\, Fortaleza sediou\, pela primeira vez\, o congresso da Associação Brasileira de Transplantes de Órgãos (ABTO)\, em sua 8ª edição. À época\, eu ainda não transitava no meio dos transplantes\, mas os rumores do sucesso do evento marcaram a história. É\, portanto\, imbuída de uma grande responsabilidade em manter esse legado\, que tenho a honra e o entusiasmo de convidá-los para o Congresso Brasileiro de Transplantes\, que volta para Fortaleza\, a Terra da Luz\, entre os dias 15 a 18 de outubro de 2025\, agora em sua 19ª edição. Junto com ele\, receberemos os colegas portugueses para o XXIII Congresso Luso-Brasileiro de Transplantes\, os grandes parceiros da enfermagem para o XVIII Encontro de Enfermagem em Transplantes e os profissionais que atuam na área de imunologia para o Fórum de Histocompatibilidade da Associação Brasileira de Histocompatibilidade e Imunogenética (ABHI). \nCom o tema “Desafios e Novas Fronteiras”\, este congresso se propõe a explorar as complexidades e avanços no campo dos transplantes\, atraindo colegas que atuam nesta área em todo o país para discussões profundas e profícuas\, e oferecer novas perspectivas para a prática clínica e para a pesquisa. Além disso\, nos empenharemos em elaborar uma grade científica que estimule a participação de novas gerações de médicos especialistas e residentes\, membros de ligas acadêmicas e alunos de graduação interessados no tema\, incentivando a formação de novos profissionais e lideranças que perpetuem o exitoso programa de transplantes do país. \nMantendo a tradição de valorizar as produções científicas\, o congresso dedicará amplo espaço para a apresentação de temas livres\, promovendo a divulgação da pesquisa básica\, clínica e translacional na área de doação e transplantes desenvolvidas por centros e universidades. \nReconhecida internacionalmente por suas belas praias e paisagens\, clima ensolarado e pela cordial e calorosa recepção aos visitantes\, Fortaleza está de braços abertos para recebê-los!
URL:https://centrodeeventos.ce.gov.br/evento/xix-congresso-brasileiro-de-transplantes-de-orgaos/
LOCATION:Pavilhão Oeste
CATEGORIES:Feiras e Exposições
END:VEVENT
BEGIN:VEVENT
DTSTART;VALUE=DATE:20251015
DTEND;VALUE=DATE:20251016
DTSTAMP:20260421T121701
CREATED:20250929T125107Z
LAST-MODIFIED:20251007T130739Z
UID:1700-1760486400-1760572799@centrodeeventos.ce.gov.br
SUMMARY:CEARÁ SEM FOME
DESCRIPTION:
URL:https://centrodeeventos.ce.gov.br/evento/ceara-sem-fome/
LOCATION:Pavilhão Oeste
CATEGORIES:Eventos Governamentais
END:VEVENT
BEGIN:VEVENT
DTSTART;VALUE=DATE:20251016
DTEND;VALUE=DATE:20251017
DTSTAMP:20260421T121701
CREATED:20250929T124943Z
LAST-MODIFIED:20250929T124943Z
UID:1698-1760572800-1760659199@centrodeeventos.ce.gov.br
SUMMARY:CEARÁ CIENTÍFICO
DESCRIPTION:
URL:https://centrodeeventos.ce.gov.br/evento/ceara-cientifico-2/
LOCATION:Pavilhão Leste
CATEGORIES:Eventos Governamentais
END:VEVENT
BEGIN:VEVENT
DTSTART;VALUE=DATE:20251016
DTEND;VALUE=DATE:20251020
DTSTAMP:20260421T121701
CREATED:20250901T172645Z
LAST-MODIFIED:20250901T172915Z
UID:1661-1760572800-1760918399@centrodeeventos.ce.gov.br
SUMMARY:MAX FASHION TOUR
DESCRIPTION:
URL:https://centrodeeventos.ce.gov.br/evento/max-fashion-tour/
LOCATION:Pavilhão Oeste
CATEGORIES:Congresso
END:VEVENT
BEGIN:VEVENT
DTSTART;VALUE=DATE:20251018
DTEND;VALUE=DATE:20251020
DTSTAMP:20260421T121701
CREATED:20250929T125138Z
LAST-MODIFIED:20250929T125138Z
UID:1702-1760745600-1760918399@centrodeeventos.ce.gov.br
SUMMARY:INOVAÇÃO EMPREENDEDORA
DESCRIPTION:
URL:https://centrodeeventos.ce.gov.br/evento/inovacao-empreendedora/
LOCATION:Pavilhão Oeste
CATEGORIES:Eventos Governamentais
END:VEVENT
BEGIN:VEVENT
DTSTART;VALUE=DATE:20251019
DTEND;VALUE=DATE:20251022
DTSTAMP:20260421T121701
CREATED:20250529T142642Z
LAST-MODIFIED:20250529T142642Z
UID:1445-1760832000-1761091199@centrodeeventos.ce.gov.br
SUMMARY:33ª FEIRA DA BELEZA 2025
DESCRIPTION:Sobre o evento\n\n\n\n\nA 33ª Feira da Beleza\, em Fortaleza\, ocorrerá nos dias 19\, 20 e 21 de outubro de 2025\, no Centro de Eventos do Ceará. O evento é voltado para profissionais da beleza e oferece oportunidades de atualização\, networking e compra de produtos \nReconhecida internacionalmente por suas belas praias e paisagens\, clima ensolarado e pela cordial e calorosa recepção aos visitantes\, Fortaleza está de braços abertos para recebê-los!
URL:https://centrodeeventos.ce.gov.br/evento/33a-feira-da-beleza-2025/
LOCATION:Pavilhão Leste
CATEGORIES:Feiras e Exposições
END:VEVENT
BEGIN:VEVENT
DTSTART;VALUE=DATE:20251023
DTEND;VALUE=DATE:20251026
DTSTAMP:20260421T121701
CREATED:20250529T142949Z
LAST-MODIFIED:20250529T142949Z
UID:1444-1761177600-1761436799@centrodeeventos.ce.gov.br
SUMMARY:FENÓPTICA 2025
DESCRIPTION:O que é a FENÓPTICA ?\n\n\n\n\n\nA FENÓPTICA é uma das maiores feiras do setor óptico no Brasil. O evento reúne profissionais\, empresas e marcas líderes do mercado óptico para apresentar inovações\, tecnologias e tendências em óptica.\nA feira traz uma grande exposição de produtos e serviços\, negócios\, treinamento e atualização profissional. Os visitantes podem encontrar novas tecnologias\, produtos e serviços\, além de participar de palestras\, workshops e painéis de discussão.\nA FENÓPTICA também é um espaço fundamental para o networking e a formação de parcerias estratégicas entre profissionais\, instituições e empresas do setor óptico. O evento é uma oportunidade para conhecer as últimas novidades em produtos e serviços\, além de aprender sobre as tendências do mercado e como se manter competitivo.\nAlém disso\, a feira oferece uma programação variada\, com temas como inovações tecnológicas\, design de produtos e gestão financeira.\n\nA FENÓPTICA 2025 É O LUGAR CERTO ONDE VOCÊ ENCONTRA TUDO RELACIONADO AO UNIVERSO ÓPTICO !!!
URL:https://centrodeeventos.ce.gov.br/evento/fenoptica-2025/
LOCATION:Pavilhão Oeste
CATEGORIES:Feiras e Exposições
ATTACH;FMTTYPE=image/jpeg:https://centrodeeventos.ce.gov.br/wp-content/uploads/2025/05/6789695aa9fa6-xs.jpg
END:VEVENT
BEGIN:VEVENT
DTSTART;VALUE=DATE:20251023
DTEND;VALUE=DATE:20251025
DTSTAMP:20260421T121701
CREATED:20250529T143244Z
LAST-MODIFIED:20251021T161831Z
UID:1443-1761177600-1761350399@centrodeeventos.ce.gov.br
SUMMARY:BTM - BRAZIL TRAVEL MARKETING 2025
DESCRIPTION:Sobre o BTM\n\n\n\n\nO BTM – Brazil Travel Market – é o maior evento B2B de turismo realizado no Norte e Nordeste e um dos principais do Brasil. Realizado e organizado pela BBC Eventos desde 2011\, o BTM promove a integração do setor de viagens e turismo\, oferecendo novos produtos ao mercado e fortalecendo conexões estratégicas. \nO evento reúne Feira\, Capacitações e Rodadas de Negócios\, sendo referência em inovação e geração de oportunidades. Realizado em Fortaleza-CE\, o BTM também recebe hosted buyers de outros países\, ampliando sua relevância internacional. \nA edição de 2024 foi um sucesso\, reunindo mais de 4.500 profissionais do setor. Para este ano\, a expectativa é superar 5.000 participantes\, consolidando ainda mais o papel do BTM como um marco no trade turístico nacional e internacional.
URL:https://centrodeeventos.ce.gov.br/evento/btm-brazil-travel-marketing-2025/
LOCATION:Pavilhão Oeste
CATEGORIES:Feiras e Exposições
ATTACH;FMTTYPE=image/jpeg:https://centrodeeventos.ce.gov.br/wp-content/uploads/2025/05/BANNER-BTM-500mx400m.jpg
END:VEVENT
BEGIN:VEVENT
DTSTART;VALUE=DATE:20251024
DTEND;VALUE=DATE:20251027
DTSTAMP:20260421T121701
CREATED:20250929T125210Z
LAST-MODIFIED:20250929T125210Z
UID:1704-1761264000-1761523199@centrodeeventos.ce.gov.br
SUMMARY:FORÚM PLANO DIRETOR DE FORTALEZA
DESCRIPTION:
URL:https://centrodeeventos.ce.gov.br/evento/forum-plano-diretor-de-fortaleza/
LOCATION:Pavilhão Leste
CATEGORIES:Eventos Governamentais
END:VEVENT
BEGIN:VEVENT
DTSTART;VALUE=DATE:20251028
DTEND;VALUE=DATE:20251031
DTSTAMP:20260421T121701
CREATED:20250901T172728Z
LAST-MODIFIED:20250901T172806Z
UID:1664-1761609600-1761868799@centrodeeventos.ce.gov.br
SUMMARY:ENCONTRO DA AGU - ADVOCACIA GERAL DA UNIÃO
DESCRIPTION:
URL:https://centrodeeventos.ce.gov.br/evento/encontro-da-agu-advocacia-geral-da-uniao/
LOCATION:Pavilhão Oeste
CATEGORIES:Eventos Governamentais
END:VEVENT
BEGIN:VEVENT
DTSTART;VALUE=DATE:20251030
DTEND;VALUE=DATE:20251101
DTSTAMP:20260421T121701
CREATED:20250529T143500Z
LAST-MODIFIED:20250529T143500Z
UID:1442-1761782400-1761955199@centrodeeventos.ce.gov.br
SUMMARY:CEARÁ RH 2025
DESCRIPTION:
URL:https://centrodeeventos.ce.gov.br/evento/ceara-rh-2025/
LOCATION:Pavilhão Leste
CATEGORIES:Feiras e Exposições
END:VEVENT
BEGIN:VEVENT
DTSTART;VALUE=DATE:20251031
DTEND;VALUE=DATE:20251102
DTSTAMP:20260421T121701
CREATED:20250812T150205Z
LAST-MODIFIED:20251029T125046Z
UID:1635-1761868800-1762041599@centrodeeventos.ce.gov.br
SUMMARY:Salão de Moda Ceará 7ª Edição
DESCRIPTION:
URL:https://centrodeeventos.ce.gov.br/evento/salao-de-moda-ceara-7a-edicao/
LOCATION:Pavilhão Oeste
CATEGORIES:Feiras e Exposições
END:VEVENT
END:VCALENDAR