BEGIN:VCALENDAR
VERSION:2.0
PRODID:-//Centro de Eventos do Ceará - ECPv6.13.0//NONSGML v1.0//EN
CALSCALE:GREGORIAN
METHOD:PUBLISH
X-ORIGINAL-URL:https://centrodeeventos.ce.gov.br
X-WR-CALDESC:Eventos para Centro de Eventos do Ceará
REFRESH-INTERVAL;VALUE=DURATION:PT1H
X-Robots-Tag:noindex
X-PUBLISHED-TTL:PT1H
BEGIN:VTIMEZONE
TZID:America/Sao_Paulo
BEGIN:STANDARD
TZOFFSETFROM:-0300
TZOFFSETTO:-0300
TZNAME:-03
DTSTART:20260101T000000
END:STANDARD
END:VTIMEZONE
BEGIN:VEVENT
DTSTART;VALUE=DATE:20260609
DTEND;VALUE=DATE:20260611
DTSTAMP:20260419T105216
CREATED:20260116T185032Z
LAST-MODIFIED:20260116T185032Z
UID:1832-1780963200-1781135999@centrodeeventos.ce.gov.br
SUMMARY:EDU SUMMIT
DESCRIPTION:
URL:https://centrodeeventos.ce.gov.br/evento/edu-summit/
LOCATION:Pavilhão Oeste
CATEGORIES:Congresso
ATTACH;FMTTYPE=image/jpeg:https://centrodeeventos.ce.gov.br/wp-content/uploads/2026/01/430023693_122107831148222348_483479612713476817_n.jpg
END:VEVENT
BEGIN:VEVENT
DTSTART;VALUE=DATE:20260615
DTEND;VALUE=DATE:20260617
DTSTAMP:20260419T105216
CREATED:20260116T185207Z
LAST-MODIFIED:20260116T185226Z
UID:1837-1781481600-1781654399@centrodeeventos.ce.gov.br
SUMMARY:SEMINÁRIO DE GESTORES PÚBLICOS
DESCRIPTION:
URL:https://centrodeeventos.ce.gov.br/evento/seminario-de-gestores-publicos/
LOCATION:Pavilhão Oeste
CATEGORIES:Seminários
END:VEVENT
BEGIN:VEVENT
DTSTART;VALUE=DATE:20260625
DTEND;VALUE=DATE:20260628
DTSTAMP:20260419T105216
CREATED:20260116T185433Z
LAST-MODIFIED:20260116T185433Z
UID:1843-1782345600-1782604799@centrodeeventos.ce.gov.br
SUMMARY:PECNORDESTE
DESCRIPTION:
URL:https://centrodeeventos.ce.gov.br/evento/pecnordeste/
LOCATION:Oeste e Leste
CATEGORIES:Feiras e Exposições
ATTACH;FMTTYPE=image/jpeg:https://centrodeeventos.ce.gov.br/wp-content/uploads/2026/01/SaveClip.App_564993380_18529544581062579_191788978727542271_n.jpg
END:VEVENT
END:VCALENDAR